Workbook

Sheet Accueil
B2: Challenge Badminton
A4: Organisé par | B4: PALATINE
A5: Lieu | B5: BAILLY ROMAINVILLERS
A6: Dates | B6: 2026

Sheet Inscrits definitifs
C2: =Accueil!B2&" "&Accueil!B5&" "&Accueil!B6&" Liste Inscrits"&" Organisation "&Accueil!B4 -> Challenge Badminton BAILLY ROMAINVILLERS 2026 Liste Inscrits Organisation PALATINE
G3: Discipline | H3: Badminton
B5: Entités | C5: Nom Prénom | D5: Sexe | E5: Discipline | G5: Étiquettes de lignes | H5: Nombre
A6: 1 | B6: CERA | C6: RAFFIN Anthony | D6: H | E6: Badminton | G6: BPCE-IT | H6: 12
A7: 2 | B7: CERA | C7: MANDRA Melanie | D7: F | E7: Badminton | G7: BPCE-SI | H7: 4
A8: 3 | B8: CELDA | C8: LOUEE Elodie | D8: F | E8: Badminton | G8: BPGO | H8: 4
A9: 4 | B9: CEBFC | C9: GUEY Cyril | D9: H | E9: Badminton | G9: CEAPC | H9: 14
A10: 5 | B10: CEAPC | C10: RAES Sophie | D10: F | E10: Badminton | G10: CEBFC | H10: 1
A11: 6 | B11: CEAPC | C11: COURNIL Eva | D11: F | E11: Badminton | G11: CEBPL | H11: 6
A12: 7 | B12: CEAPC | C12: FLAUSSE Cécile | D12: F | E12: Badminton | G12: CEHDF | H12: 4
A13: 8 | B13: CEAPC | C13: CANONNIER Anne Sophie | D13: F | E13: Badminton | G13: CEPAC | H13: 2
A14: 9 | B14: CEAPC | C14: CHEVALIER Yoann | D14: H | E14: Badminton | G14: CERA | H14: 2
A15: 10 | B15: CEAPC | C15: DAVIAUD Matthieu | D15: H | E15: Badminton | G15: NATIXIS | H15: 11
A16: 11 | B16: CEAPC | C16: BROSSIER Mathieu | D16: H | E16: Badminton | G16: PALATINE | H16: 16
A17: 12 | B17: CEAPC | C17: DEBONS Johan | D17: H | E17: Badminton | G17: BPCE IARD | H17: 3
... A28: 23 | B28: CECAZ | C28: ROBART Alexis | D28: H | E28: Badminton | G28: Total général | H28: 123
A29: 24 | B29: BPCE | C29: SORRIN Sylvain | D29: H | E29: Squash
A30: 25 | B30: CEN | C30: KAHLAOUI Mouaad | D30: H | E30: Badminton
A31: 26 | B31: CEN | C31: BELHOMMET Agnes | D31: F | E31: Squash
A32: 27 | B32: CEN | C32: ROSSE Martial | D32: H | E32: Squash
A33: 28 | B33: CEGEE | C33: SAADINI Noemie | D33: F | E33: Squash
A34: 29 | B34: NATIXIS | C34: CHEA Xavier | D34: H | E34: Badminton
A35: 30 | B35: NATIXIS | C35: EVEN Laurent | D35: H | E35: Badminton
A36: 31 | B36: NATIXIS | C36: CHÂTEAU Olivier | D36: H | E36: Badminton
A37: 32 | B37: NATIXIS | C37: BENABDENBI Nadim | D37: H | E37: Badminton
A38: 33 | B38: NATIXIS | C38: HAMMOUMI Nacim | D38: H | E38: Badminton
A39: 34 | B39: NATIXIS | C39: MULLONI Fabien | D39: H | E39: Badminton
A40: 35 | B40: NATIXIS | C40: DEVEZEAUD Daphné | D40: F | E40: Badminton
... A150: 145 | B150: ECU VIE | C150: ALLAIRE Jocelyn | D150: H | E150: Squash

Sheet Capitaines
A1: Etablissement | B1: Nom | C1: Tel | D1: Mail
A3: BPALC | B3: POCHON Justine | C3: 07.88.18.50.82
A4: BPAURA | B4: CROSNIER Caroline | C4: 06 88 73 97 02
A5: BPCE | B5: DE MEYER Philippe | C5: 06 46 87 24 42 | D5: philippe.demeyer@bpce.fr
A6: BPCE IARD | B6: CLERC Zlatoela | C6: 06.29.11.48.34
A7: BPCE IT | B7: RAULT Julien | C7: 07.63.77.22.06 | D7: julien.rault@bpce-it.fr
A8: BPCESI | B8: VABRE Romain | C8: 06.72.48.99.97
A9: BPGO | B9: THOMASSE Fabrice | C9: 06.61.14.35.07
A10: CASDEN | B10: TRAN Fabien | C10: 06.09.03.09.61
A11: CCOOP | B11: LEGALL David | C11: 06 59 16 46 33
A12: CEAPC | B12: DELPECH Thierry | C12: 06.63.25.44.51 | D12: thierry.delpech@ceapc.caisse-epargne.fr
A13: CEBFC | B13: GUEY Cyril | C13: 06.82.08.22.14
A14: CEBPL | B14: ROUSSEAU Ludovic | C14: 06.11.58.52.08 | D14: ludovic.rousseau@cebpl.caisse-epargne.fr
A15: CELC | B15: MOMHA BELLNOUN Edwin | C15: 06.88.18.37.00
A16: CELDA | B16: LOUEE Elodie | C16: 06.70.99.70.90 | D16: elo.louee@hotmail.fr
A17: CEN | B17: KAHLAOUI Mouaad | C17: 06 89 25 29 15
A18: CEPAC | B18: BOLO Mathieu | C18: 06.82.84.69.71 | D18: mathieu.bolo@cepac.caisse-epargne.fr
A19: CERA | B19: MANDRA Mélanie | C19: 06.14.69.45.49
A20: ECU VIE | B20: OULAD ALI Souliman | C20: 07.61.61.52.80
A21: NATIXIS | B21: CHEA Xavier | C21: 06.60.56.40.95
A22: PALATINE | B22: CIECHANOWSKA Martyna | C22: 06 34 40 80 83
A23: =COUNTA(A2:A22) -> 20

Sheet Decompte points
E4: Individuel ou Double | F4: Points | I4: TOP1 | J4: TOP2 | K4: TOP3
E5: Vainqueur | F5: 8 | H5: 1er | I5: 15 | J5: 11 | K5: 7
E6: Finaliste | F6: 7 | H6: 2eme | I6: 14 | J6: 10 | K6: 6
E7: 3eme | F7: 6 | H7: 3eme | I7: 13 | J7: 9 | K7: 5
E8: 4eme | F8: 5 | H8: 4eme | I8: 12 | J8: 8 | K8: 4
E9: 1/4finale | F9: 4 | H9: Sorti en 1/4 | I9: 9 | J9: 5 | K9: 3
E10: 1/8finale | F10: 3 | H10: Sorti en 1/8 | I10: 8 | J10: 4 | K10: 2
E11: 1/16finale | F11: 2 | H11: Sorti en Poule | I11: 1 | J11: 1 | K11: 1
E13: Participants | F13: 1

Sheet Doubles H
C2: =Accueil!B2&" "&Accueil!B5&" "&Accueil!B6&" Doubles Hommes" -> Challenge Badminton BAILLY ROMAINVILLERS 2026 Doubles Hommes | N2: =Accueil!B2&" "&Accueil!B5&" "&Accueil!B6&" Podiums Doubles Hommes" -> Challenge Badminton BAILLY ROMAINVILLERS 2026 Podiums Doubles Hommes
B5: Etablissement | C5: Nom Prénom | D5: Nom Prénom | E5: Class FFB | F5: Top | G5: Qualif | H5: Points | I5: Classement Challenge | J5: Poule
A6: 1 | B6: BPCE-SI | C6: FOUIN Luc | D6: VABRE Romain | E6: R4 / R6 | F6: 1 | G6: Q | H6: 15 | I6: 1 | J6: A
A7: 2 | B7: CEHDF | C7: MALAQUIN Matthieu | D7: DECONINCK Florian | E7: R5 / NC | F7: 1 | G7: Q | H7: 14 | I7: 2 | J7: A
A8: 3 | B8: BPCE-IT | C8: RAULT Julien | D8: GIESI Thibaut | E8: P11 / NC | F8: 1 | G8: S 1/2 | H8: 13 | I8: 3 | J8: B
A9: 4 | B9: BPCE | C9: ROZPECZNY Charlie | D9: MARTEEL Eric | E9: P10 / P10 | F9: 1 | G9: S 1/2 | H9: 12 | I9: 4 | J9: B
A10: 5 | B10: BPCE-IT | C10: LEROUGE Sylvain | D10: PIEL Martin | E10: D8 D9 | F10: 1 | G10: S 1/4 | H10: 9 | I10: 5 | J10: C
A11: 6 | B11: BPCE-SI | C11: DOURLET Cédric | D11: STEENKISTE Jérémy | E11: D9 / P12 | F11: 1 | G11: S 1/4 | H11: 9 | I11: 5 | J11: C
A12: 7 | B12: CELC / CCOOP | C12: LE GALL David | D12: MOMHA BELLNOUN Edwin | E12: D9 / P10 | F12: 1 | G12: S 1/4 | H12: 9 | I12: 5 | J12: D
A13: 8 | B13: NATIXIS | C13: BAUDET Pierrick | D13: CHÂTEAU Olivier | E13: P10 P10 | F13: 1 | G13: S 1/4 | H13: 9 | I13: 5 | J13: D
A14: 9 | B14: BPGO | C14: GICQUEL Philippe | D14: THOMASSE Fabrice | E14: P10 / P10 | F14: 1 | G14: S 1/8 | H14: 8 | I14: 9 | J14: E
A15: 10 | B15: CEAPC | C15: THIBAUD Ludovic | D15: DELPECH Thierry | E15: P10 P11 | F15: 1 | G15: S 1/8 | H15: 8 | I15: 9 | J15: E
A16: 11 | B16: BPCE | C16: DE MEYER Philippe | D16: DOS SANTOS Nelson | E16: P12 / NC | F16: 1 | G16: SP | H16: 1 | I16: 11 | J16: A
A17: 12 | B17: BPCE / NATIXIS | C17: CHOQUET Christophe | D17: BLANCHETEAU Thierry | E17: P10 / NC | F17: 1 | G17: SP | H17: 1 | I17: 11 | J17: B
... A36: 31 | B36: PALATINE | C36: CONDETTE Philippe | D36: LAMERAND Vincent | E36: NC / NC | F36: 2 | G36: SP | H36: 1 | I36: 9 | J36: D
A37: 32 | B37: ECU VIE | C37: LE LOUER Kevin | D37: VEXLARD Romain | E37: NC / NC | F37: 2 | G37: Forfait | I37: WO | J37: D
A38: 33 | B38: BPCE | C38: PFISTERER Benoît | D38: VIVIEN Emmanuel | E38: NC / NC | F38: 2 | I38: WO
A39: 34

Sheet Doubles Mixte
C2: =Accueil!B2&" "&Accueil!B5&" "&Accueil!B6&" Doubles Mixte" -> Challenge Badminton BAILLY ROMAINVILLERS 2026 Doubles Mixte | P2: =Accueil!B2&" "&Accueil!B5&" "&Accueil!B6&" Podiums Doubles Mixte" -> Challenge Badminton BAILLY ROMAINVILLERS 2026 Podiums Doubles Mixte
B5: Etablissements | C5: Nom Prénom | D5: Classt FFB | E5: Nom Prénom | F5: Classt FFB | G5: Classt FFB | H5: TOP | I5: Points | J5: Qualif | K5: Classement Challenge | L5: Poule
A6: 1 | B6: BPCE IARD / CECAZ | C6: CLERC Zlatoela | E6: ROBART Alexis | F6: P10 | G6: NC | H6: 1 | I6: 15 | J6: Q | K6: 1 | L6: D
A7: 2 | B7: BPCE | C7: NICOLAU Marine | E7: MARTEEL Eric | F7: D9 | G7: P10 | H7: 1 | I7: 14 | J7: Q | K7: 2 | L7: E
A8: 3 | B8: NATIXIS | C8: LEFEBVRE Gwenllian | E8: BAUDET Pierrick | F8: NC | G8: NC | H8: 1 | I8: 13 | J8: S 1/2 | K8: 3 | L8: B
A9: 4 | B9: BPCE-IT | C9: JUNQUET Marlène | E9: KONG Dara | F9: P11 | G9: NC | H9: 1 | I9: 12 | J9: S 1/2 | K9: 4 | L9: C
A10: 5 | B10: BPALC / NATIXIS | C10: POCHON Justine | E10: BLANCHETEAU Thierry | F10: NC | G10: D9 | H10: 1 | I10: 9 | J10: S 1/4 | K10: 5 | L10: A
A11: 6 | B11: CCOOP | C11: THOMAS Stéphanie | E11: LEGALL David | F11: R6 | G11: NC | H11: 1 | I11: 9 | J11: S 1/4 | K11: 5 | L11: A
A12: 7 | B12: CEAPC | C12: JOUBERT Adeline | E12: DELPECH Thierry | F12: NC | G12: P11 | H12: 1 | I12: 9 | J12: S 1/4 | K12: 5 | L12: B
A13: 8 | B13: CEAPC | C13: CANONNIER Anne Sophie | E13: THIBAUD Ludovic | F13: P10 | G13: NC | H13: 1 | I13: 9 | J13: S 1/4 | K13: 5 | L13: A
A14: 9 | B14: BPGO | C14: DOMAGNE Marine | E14: GICQUEL Philippe | F14: P10 | G14: D9 | H14: 1 | I14: 8 | J14: s 1/8 | K14: 9 | L14: A
A15: 10 | B15: BPGO | C15: NGO Khan Ly | E15: THOMASSE Fabrice | F15: D8 | G15: D8 | H15: 1 | I15: 8 | J15: s 1/8 | K15: 9 | L15: B
A16: 11 | B16: CCOOP/ CEBFC | C16: BOURREE Charline | E16: GUEY Cyril | F16: D7 | G16: NC | H16: 1 | I16: 1 | J16: SP | K16: 11 | L16: D
A17: 12 | B17: CEAPC | C17: COURNIL Eva | E17: ALBORGHETTI Eddy | F17: NC | G17: NC | H17: 1 | I17: 1 | J17: SP | K17: 11 | L17: E
... A39: 34 | B39: CCOOP | C39: TANH Valérie | E39: DEVILLERS Eric | F39: NC | G39: P10 | H39: 2 | I39: 1 | J39: SP | K39: 13 | L39: F

Sheet  Simples D
C2: =Accueil!B2&" "&Accueil!B5&" "&Accueil!B6&" Simples Dame" -> Challenge Badminton BAILLY ROMAINVILLERS 2026 Simples Dame | M2: Challenge Badminton BAILLY ROMAINVILLERS 2026 Podiums
B6: Etablissement | C6: Nom Prénom | D6: Class FFB | E6: TOP | F6: Qualif | G6: Pts | H6: Podium TOP | I6: Classement | J6: Poule
A7: 1 | B7: CELDA | C7: LOUEE Elodie | D7: D8 | E7: 1 | F7: Q | G7: 15 | H7: 1 | J7: A
A8: 2 | B8: BPAURA | C8: CROSNIER Caroline | D8: NC | E8: 1 | F8: Q | G8: 14 | H8: 2 | J8: B
A9: 3 | B9: BPCE | C9: FERREIRA Delphine | D9: NC | E9: 1 | F9: S 1/2 | G9: 13 | H9: 3 | J9: B
A10: 4 | B10: CEAPC | C10: FLAUSSE Cécile | D10: D9 | E10: 1 | F10: S 1/2 | G10: 12 | H10: 4 | J10: A
A11: 5 | B11: BPCE | C11: DOUSSOT Anne-Laureline | D11: NC | E11: 1 | F11: SP | G11: 1 | H11: 5 | J11: A
A12: 6 | B12: BPCE-IT | C12: JACQUIER Sophie | D12: NC | E12: 1 | F12: SP | G12: 1 | H12: 5 | J12: A
A13: 7 | B13: CEAPC | C13: CANONNIER Anne Sophie | D13: P11 | E13: 1 | F13: SP | G13: 1 | H13: 5 | J13: B
A14: 8 | B14: CEBPL | C14: GLAVIEUX Justine | D14: NC | E14: 1 | F14: SP | G14: 1 | H14: 5 | J14: B
A15: 9 | B15: BPALC | C15: KOENIG Coralie | D15: NC | E15: 2 | F15: Q | G15: 11 | H15: 1 | J15: A
A16: 10 | B16: CEAPC | C16: COURNIL Eva | D16: NC | E16: 2 | F16: Q | G16: 10 | H16: 2 | J16: A
A17: 11 | B17: BPAURA | C17: HERITIER Aline | D17: NC | E17: 2 | F17: S 1/2 | G17: 9 | H17: 3 | J17: A
A18: 12 | B18: CEHDF | C18: PAUTY Camille | D18: NC | E18: 2 | F18: S 1/2 | G18: 8 | H18: 4 | J18: B
... A26: 20 | B26: ECUVIE | C26: BRUDY Sabrina | D26: NC | E26: 2 | F26: SP | G26: 1 | H26: 9 | J26: D
A27: 21 | B27: BPAURA | C27: HARTMANN Caroline | D27: NC | E27: 2 | F27: WO | G27: 0 | H27: wo | J27: D
A28: 22
A29: 23
A30: 24
A31: 25
A32: 26

Sheet Simples H
C2: =Accueil!B2&" "&Accueil!B5&" "&Accueil!B6&" Simples Hommes" -> Challenge Badminton BAILLY ROMAINVILLERS 2026 Simples Hommes | L2: =Accueil!B2&" "&Accueil!B5&" "&Accueil!B6&" Podiums Simples Hommes" -> Challenge Badminton BAILLY ROMAINVILLERS 2026 Podiums Simples Hommes
B4: Classement
B6: Etablissement | C6: Nom Prénom | D6: Class FFB | E6: Top | F6: Q | G6: Points | H6: Podium TOP | I6: Poule
A7: 1 | B7: CEHDF | C7: DECONINCK Florian | D7: NC | E7: 1 | F7: Q | G7: 15 | H7: 1 | I7: B
A8: 2 | B8: CECAZ | C8: ROBART Alexis | D8: R6 | E8: 1 | F8: Q | G8: 14 | H8: 2 | I8: E
A9: 3 | B9: BPCE | C9: ROZPECZNY Charlie | D9: R5 | E9: 1 | F9: S 1/2 | G9: 13 | H9: 3 | I9: G
A10: 4 | B10: NATIXIS | C10: CHEA Xavier | D10: D9 | E10: 1 | F10: S 1/2 | G10: 12 | H10: 4 | I10: D
A11: 5 | B11: BPCE-IT | C11: PIEL Martin | D11: NC | E11: 1 | F11: S 1/4 | G11: 9 | H11: 5 | I11: D
A12: 6 | B12: BPCE-SI | C12: VABRE Romain | D12: D8 | E12: 1 | F12: S 1/4 | G12: 9 | H12: 5 | I12: D
A13: 7 | B13: BPCE-SI | C13: FOUIN Luc | D13: D9 | E13: 1 | F13: S 1/4 | G13: 9 | H13: 5 | I13: D
A14: 8 | B14: NATIXIS | C14: CHÂTEAU Olivier | D14: NC | E14: 1 | F14: S 1/4 | G14: 9 | H14: 5 | I14: F
A15: 9 | B15: BPCE-IT | C15: GIESI Thibaut | D15: P10 | E15: 1 | F15: S 1/8 | G15: 8 | H15: 9 | I15: E
A16: 10 | B16: BPCE-SI | C16: STEENKISTE Jérémy | D16: P12 | E16: 1 | F16: S 1/8 | G16: 8 | H16: 9 | I16: E
A17: 11 | B17: BPCE-SI | C17: DOURLET Cédric | D17: P12 | E17: 1 | F17: S 1/8 | G17: 8 | H17: 9 | I17: B
A18: 12 | B18: CEBPL | C18: DUCREUX Baptiste | D18: P12 | E18: 1 | F18: S 1/8 | G18: 8 | H18: 9 | I18: A
... A60: 54 | B60: PALATINE | C60: KENGATHEVAN Thinesh | D60: NC | E60: 3 | F60: SP | G60: 1 | H60: 11 | I60: E
A61: 55 | B61: ECU VIE | C61: VEXLARD Romain | D61: NC | E61: 3 | F61: Forfait | I61: A
A62: 56
K71: Etablissement | L71: Nom Prénom | M71: Class FFB | N71: Top | O71: Q | P71: Points | Q71: Podium TOP | R71: Poule
K72: CASDEN | L72: SANNER Sébastien | M72: NC | N72: 3 | O72: Q | P72: 7 | Q72: 1 | R72: E
K73: NATIXIS | L73: BENABDENBI Nadim | M73: NC | N73: 3 | O73: Q | P73: 6 | Q73: 2 | R73: E
K74: BPCE-IT | L74: NEAU Fabrice | M74: NC | N74: 3 | O74: S 1/2 | P74: 5 | Q74: 3 | R74: E

Sheet Doubles Dames
C2: =Accueil!B2&" "&Accueil!B5&" "&Accueil!B6&" Doubles Dames" -> Challenge Badminton BAILLY ROMAINVILLERS 2026 Doubles Dames | N2: =Accueil!B2&" "&Accueil!B5&" "&Accueil!B6&" Podiums Doubles Dames" -> Challenge Badminton BAILLY ROMAINVILLERS 2026 Podiums Doubles Dames
B6: Etablissement | C6: Nom Prénom | D6: Nom Prénom | E6: Class FFB | F6: TOP | G6: Qualif | H6: Point | I6: Classement | J6: POULE
A7: 1 | B7: CERA / CELDA | C7: MANDRA Melanie | D7: LOUEE Elodie | E7: R6 / D7 | F7: 1 | G7: Q | H7: 15 | I7: 1 | J7: A
A8: 2 | B8: PALATINE | C8: THOMAS Stéphanie | D8: BOURREE Charline | E8: R6 / D7 | F8: 1 | G8: Q | H8: 14 | I8: 2 | J8: A
A9: 3 | B9: NATIXIS / BPCE | C9: DEVEZEAUD Daphné | D9: NICOLAU Marine | E9: NC / P10 | F9: 1 | G9: S 1/2 | H9: 13 | I9: 3 | J9: B
A10: 4 | B10: NATIXIS / BPALC | C10: DOMAGNE Marine | D10: NGO KHAN Ly | E10: D9 / P11 | F10: 1 | G10: S 1/2 | H10: 12 | I10: 4 | J10: B
A11: 5 | B11: BPCE IARD | C11: MAUBOURGUET Jennifer | D11: CLERC Zlatoela | E11: P12 / P10 | F11: 1 | G11: SP | H11: 1 | I11: 5 | J11: A
A12: 6 | B12: BPCE-IT | C12: JUNQUET Marlène | D12: MAINEULT Elisabeth | E12: NC / P12 | F12: 1 | G12: SP | H12: 1 | I12: 5 | J12: B
A13: 7 | B13: CEAPC | C13: FLAUSSE Cécile | D13: JOUBERT Adeline | E13: D9 / NC | F13: 1 | G13: SP | H13: 1 | I13: 5 | J13: B
A14: 8 | B14: BPGO | C14: LEFEBVRE Gwenllian | D14: KOENIG Coralie | E14: NC / NC | F14: 2 | G14: Q | H14: 11 | I14: 1 | J14: A
A15: 9 | B15: BPAURA | C15: PIOT Sophie | D15: COSNIER Caroline | E15: NC / NC | F15: 2 | G15: Q | H15: 10 | I15: 2 | J15: A
A16: 10 | B16: BPCE-IT | C16: OUDOMPHANH Southsida | D16: JAQUIER Sophie | E16: NC / NC | F16: 2 | G16: S 1/2 | H16: 9 | I16: 3 | J16: B
A17: 11 | B17: PALATINE | C17: LE Christiane | D17: CHARRAIRE Laurence | E17: NC / NC | F17: 2 | G17: S 1/2 | H17: 8 | I17: 4 | J17: B
A18: 12 | B18: CEAPC | C18: RAES Sophie | D18: LE GOEHBEL Marine | E18: NC / NC | F18: 2 | G18: S 1/4 | H18: 5 | I18: 5 | J18: C
A19: 13 | B19: CREDIT COOPERATIF | C19: BOULET Florence | D19: CIECHANOWSKA Martyna | F19: 2 | G19: S 1/4 | H19: 5 | I19: 5 | J19: C
A20: 14 | B20: BPALC | C20: POCHON Justine | D20: SENSER Delphine | E20: NC / NC | F20: 2 | G20: SP | H20: 1 | I20: 7 | J20: A
A21: 15 | B21: BPAURA | C21: AUGIER Léone | D21: HARTMANN Caroline | E21: NC / NC | F21: 2 | G21: SP | H21: 1 | I21: 7 | J21: B
A22: 16 | B22: CASDEN | C22: SENGSOUVANH Valérie | D22: TOURLIDES Claire | E22: NC / NC | F22: 2 | G22: SP | H22: 1 | I22: 7 | J22: C
B23: CASDEN | C23: SICOUX Virginie | D23: EL YACOUBI Selma | E23: NC / NC | F23: 2 | G23: SP | H23: 1 | I23: 7 | J23: C

Sheet Simul SH
C3: 5 | D3: ="poules de "&C3 -> poules de 5 | E3: Parties / J | F3: Parties Total | K3: 4 | L3: ="poules de "&K3 -> poules de 4 | M3: Parties / J | N3: Parties Total
B4: 20 | C4: TOP 1 | D4: =B4/C3 -> 4 | E4: 4 | F4: =((E4*C3)/2)*D4 -> 40 | J4: 20 | K4: TOP 1 | L4: =J4/K3 -> 5 | M4: 3 | N4: =((M4*K3)/2)*L4 -> 30
B5: =D5*C3 -> 50 | C5: TOP2 | D5: 10 | E5: 4 | F5: =((E5*C3)/2)*D5 -> 100 | J5: 50 | K5: TOP2 | L5: =J5/K3 -> 12.5 | M5: 3 | N5: =((M5*K3)/2)*L5 -> 75
F7: =SUM(F4:F5) -> 140 | N7: =SUM(N4:N5) -> 105
B11: Tableau Principal | D11: 1/8 | E11: 1/4 | F11: 1/2 | G11: F/3eme | J11: Tableau Principal | L11: 1/8 | M11: 1/4 | N11: 1/2 | O11: F/3eme
B12: =2*D4 -> 8 | C12: TOP 1 | E12: x | F12: x | G12: x | J12: =2*L4 -> 10 | K12: TOP 1 | M12: x | N12: x | O12: x
B13: =2*D5 -> 20 | C13: TOP2 | D13: x | E13: x | F13: x | G13: x | J13: =2*L5 -> 25 | K13: TOP2 | L13: x | M13: x | N13: x | O13: x
B16: Consolante | D16: 1/16 | E16: 1/8 | F16: 1/4 | G16: 1/2 | H16: F/3eme | J16: Consolante | L16: 1/16 | M16: 1/8 | N16: 1/4 | O16: 1/2 | P16: F/3eme
B17: =3*D4 -> 12 | C17: TOP 1 | E17: x | F17: x | G17: x | H17: x | J17: =2*L4 -> 10 | K17: TOP 1 | M17: x | N17: x | O17: x | P17: x
B18: =3*D5 -> 30 | C18: TOP2 | D18: x | E18: x | F18: x | G18: x | H18: x | J18: =2*L5 -> 25 | K18: TOP2 | L18: x | M18: x | N18: x | O18: x | P18: x

Sheet Decompte par equipe
A1: Entités | B1: SH1 | C1: SH2 | D1: SH3 | E1: SD1 | F1: SD2 | G1: SD3 | H1: DH1 | I1: DH2 | J1: DH3 | K1: DD1 | L1: DD2 | M1: DD3 | N1: DM1 | O1: DM2 | P1: DM3 | Q1: DMD1 | R1: DMD2 | S1: DMD3 | T1: DMH1 | U1: DMH2 | V1: DMH3
A2: BPAURA | B2: 1 | C2: 1 | E2: 14 | F2: 9 | G2: 1 | H2: 5 | K2: 10 | L2: 1 | N2: 9 | O2: 5 | P2: 0 | Q2: =N2/2 -> 4.5 | R2: =O2/2 -> 2.5 | S2: =P2/2 -> 0 | T2: =N2/2 -> 4.5 | U2: =O2/2 -> 2.5 | V2: =P2/2 -> 0
A3: BPCE | B3: 13 | C3: 5 | D3: 3 | E3: 13 | F3: 1 | H3: 12 | I3: 1 | N3: 14 | O3: 11 | P3: 10 | Q3: =N3/2 -> 7 | R3: =O3/2 -> 5.5 | S3: =P3/2 -> 5 | T3: =N3/2 -> 7 | U3: =O3/2 -> 5.5 | V3: =P3/2 -> 5
A4: BPALC | E4: 11 | K4: 1 | Q4: =N4/2 -> 0 | R4: =O4/2 -> 0 | S4: =P4/2 -> 0 | T4: =N4/2 -> 0 | U4: =O4/2 -> 0 | V4: =P4/2 -> 0
A5: BPCE ASS | K5: 1 | N5: 1 | O5: 0 | P5: 0 | Q5: =N5/2 -> 0.5 | R5: =O5/2 -> 0 | S5: =P5/2 -> 0 | T5: =N5/2 -> 0.5 | U5: =O5/2 -> 0 | V5: =P5/2 -> 0
A6: BPCE-IT | B6: 10 | C6: 9 | D6: 8 | E6: 1 | H6: 13 | I6: 9 | J6: 1 | K6: 9 | L6: 1 | N6: 12 | O6: 1 | P6: 1 | Q6: =N6/2 -> 6 | R6: =O6/2 -> 0.5 | S6: =P6/2 -> 0.5 | T6: =N6/2 -> 6 | U6: =O6/2 -> 0.5 | V6: =P6/2 -> 0.5
A7: BPCE-SI | B7: 9 | C7: 9 | D7: 8 | H7: 15 | I7: 9 | N7: 0 | O7: 0 | P7: 0 | Q7: =N7/2 -> 0 | R7: =O7/2 -> 0 | S7: =P7/2 -> 0 | T7: =N7/2 -> 0 | U7: =O7/2 -> 0 | V7: =P7/2 -> 0
A8: BPGO | H8: 8 | K8: 11 | N8: 8 | O8: 8 | P8: 0 | Q8: =N8/2 -> 4 | R8: =O8/2 -> 4 | S8: =P8/2 -> 0 | T8: =N8/2 -> 4 | U8: =O8/2 -> 4 | V8: =P8/2 -> 0
A9: CASDEN | B9: 7 | C9: 1 | D9: 1 | E9: 5 | F9: 1 | H9: 5 | I9: 1 | J9: 1 | K9: 1 | L9: 1 | N9: 1 | O9: 1 | P9: 0 | Q9: =N9/2 -> 0.5 | R9: =O9/2 -> 0.5 | S9: =P9/2 -> 0 | T9: =N9/2 -> 0.5 | U9: =O9/2 -> 0.5 | V9: =P9/2 -> 0
A10: CEAPC | B10: 9 | C10: 4 | D10: 4 | E10: 12 | F10: 10 | G10: 5 | H10: 8 | I10: 8 | J10: 1 | K10: 5 | L10: 1 | N10: 9 | O10: 9 | P10: 4 | Q10: =N10/2 -> 4.5 | R10: =O10/2 -> 4.5 | S10: =P10/2 -> 2 | T10: =N10/2 -> 4.5 | U10: =O10/2 -> 4.5 | V10: =P10/2 -> 2
A11: CEBFC | N11: 0 | O11: 0 | P11: 0 | Q11: =N11/2 -> 0 | R11: =O11/2 -> 0 | S11: =P11/2 -> 0 | T11: =N11/2 -> 0 | U11: =O11/2 -> 0 | V11: =P11/2 -> 0
A12: CEBPL | B12: 8 | C12: 3 | D12: 1 | E12: 5 | F12: 1 | H12: 1 | N12: 1 | O12: 1 | P12: 0 | Q12: =N12/2 -> 0.5 | R12: =O12/2 -> 0.5 | S12: =P12/2 -> 0 | T12: =N12/2 -> 0.5 | U12: =O12/2 -> 0.5 | V12: =P12/2 -> 0
A13: CEHDF | B13: 15 | C13: 5 | D13: 5 | E13: 8 | H13: 14 | N13: 5 | O13: 0 | P13: 0 | Q13: =N13/2 -> 2.5 | R13: =O13/2 -> 0 | S13: =P13/2 -> 0 | T13: =N13/2 -> 2.5 | U13: =O13/2 -> 0 | V13: =P13/2 -> 0
A14: CELC | N14: 1 | O14: 0 | P14: 0 | Q14: =N14/2 -> 0.5 | R14: =O14/2 -> 0 | S14: =P14/2 -> 0 | T14: =N14/2 -> 0.5 | U14: =O14/2 -> 0 | V14: =P14/2 -> 0
A15: CELDA | E15: 15 | N15: 0 | O15: 0 | P15: 0 | Q15: =N15/2 -> 0 | R15: =O15/2 -> 0 | S15: =P15/2 -> 0 | T15: =N15/2 -> 0 | U15: =O15/2 -> 0 | V15: =P15/2 -> 0
A16: CEN | B16: 8 | N16: 0 | O16: 0 | P16: 0 | Q16: =N16/2 -> 0 | R16: =O16/2 -> 0 | S16: =P16/2 -> 0 | T16: =N16/2 -> 0 | U16: =O16/2 -> 0 | V16: =P16/2 -> 0
A17: CEPAC | B17: 8 | C17: 1 | H17: 1 | N17: 0 | O17: 0 | P17: 0 | Q17: =N17/2 -> 0 | R17: =O17/2 -> 0 | S17: =P17/2 -> 0 | T17: =N17/2 -> 0 | U17: =O17/2 -> 0 | V17: =P17/2 -> 0
A18: CERA | B18: 2 | N18: 1 | O18: 0 | P18: 0 | Q18: =N18/2 -> 0.5 | R18: =O18/2 -> 0 | S18: =P18/2 -> 0 | T18: =N18/2 -> 0.5 | U18: =O18/2 -> 0 | V18: =P18/2 -> 0
A19: CREDIT COOPERATIF | E19: 1 | K19: 5 | N19: 9 | O19: 1 | P19: 0 | Q19: =N19/2 -> 4.5 | R19: =O19/2 -> 0.5 | S19: =P19/2 -> 0 | T19: =N19/2 -> 4.5 | U19: =O19/2 -> 0.5 | V19: =P19/2 -> 0
A20: ECU VIE | B20: 1 | C20: 1 | E20: 1 | N20: 4 | O20: 0 | P20: 0 | Q20: =N20/2 -> 2 | R20: =O20/2 -> 0 | S20: =P20/2 -> 0 | T20: =N20/2 -> 2 | U20: =O20/2 -> 0 | V20: =P20/2 -> 0
A21: NATIXIS | B21: 12 | C21: 9 | D21: 6 | H21: 9 | I21: 5 | J21: 1 | N21: 13 | O21: 10 | P21: 0 | Q21: =N21/2 -> 6.5 | R21: =O21/2 -> 5 | S21: =P21/2 -> 0 | T21: =N21/2 -> 6.5 | U21: =O21/2 -> 5 | V21: =P21/2 -> 0
A22: PALATINE | B22: 11 | C22: 8 | D22: 3 | E22: 5 | H22: 11 | I22: 9 | J22: 5 | K22: 14 | L22: 8 | N22: 5 | O22: 5 | P22: 4 | Q22: =N22/2 -> 2.5 | R22: =O22/2 -> 2.5 | S22: =P22/2 -> 2 | T22: =N22/2 -> 2.5 | U22: =O22/2 -> 2.5 | V22: =P22/2 -> 2

Sheet Challenges H et F
E2: =Accueil!B2 -> Challenge Badminton
E3: =Accueil!B5&" "&Accueil!B6 -> BAILLY ROMAINVILLERS 2026
G4: Challenges par Equipe
B6: Classement général EQUIPE HOMMES (Simples+doubles hommes + 1/2 Doubles mixtes)
B8: nb S | C8: Simples H | F8: Doubles Hommes | I8: Doubles Mixte | L8: Total | M8: Total | N8: Total | O8: Class
A9: Entreprises | B9: mini | O9: général
C10: 1er classé | D10: 2ème | E10: 3ème | F10: 1er classé | G10: 2ème | H10: 3ème | I10: 1er classé | J10: 2ème | K10: 3ème | L10: Simples | M10: Doubles | N10: Général | O10: Equipe
A11: BPCE IT | B11: 3 | C11: 10 | D11: 9 | E11: 8 | F11: 13 | G11: 9 | H11: 1 | I11: 6 | J11: 0.5 | K11: 0.5 | L11: =C11+D11+E11 -> 27 | M11: =F11+G11+H11+I11+J11+K11 -> 30 | N11: =M11+L11 -> 57 | O11: 1
A12: PALATINE | B12: 3 | C12: 11 | D12: 8 | E12: 3 | F12: 11 | G12: 9 | H12: 5 | I12: 2.5 | J12: 2.5 | K12: 2 | L12: =C12+D12+E12 -> 22 | M12: =F12+G12+H12+I12+J12+K12 -> 32 | N12: =M12+L12 -> 54 | O12: 2
A13: NATIXIS | B13: 3 | C13: 12 | D13: 9 | E13: 6 | F13: 9 | G13: 5 | H13: 1 | I13: 6.5 | J13: 5 | L13: =C13+D13+E13 -> 27 | M13: =F13+G13+H13+I13+J13+K13 -> 26.5 | N13: =M13+L13 -> 53.5 | O13: 3
A14: BPCE SA | B14: 3 | C14: 13 | D14: 5 | E14: 3 | F14: 12 | G14: 1 | I14: 7 | J14: 5.5 | K14: 5 | L14: =C14+D14+E14 -> 21 | M14: =F14+G14+H14+I14+J14+K14 -> 30.5 | N14: =M14+L14 -> 51.5 | O14: 4
A15: BPCE SI | B15: 3 | C15: 9 | D15: 9 | E15: 8 | F15: 15 | G15: 9 | L15: =C15+D15+E15 -> 26 | M15: =F15+G15+H15+I15+J15+K15 -> 24 | N15: =M15+L15 -> 50 | O15: 5
A16: CEAPC | B16: 3 | C16: 9 | D16: 4 | E16: 4 | F16: 8 | G16: 8 | H16: 1 | I16: 4.5 | J16: 4.5 | K16: 2 | L16: =C16+D16+E16 -> 17 | M16: =F16+G16+H16+I16+J16+K16 -> 28 | N16: =M16+L16 -> 45 | O16: 6
A17: CEHDF | B17: 3 | C17: 15 | D17: 5 | E17: 5 | F17: 14 | I17: 2.5 | L17: =C17+D17+E17 -> 25 | M17: =F17+G17+H17+I17+J17+K17 -> 16.5 | N17: =M17+L17 -> 41.5 | O17: 7
A18: CASDEN | B18: 3 | C18: 7 | D18: 1 | E18: 1 | F18: 5 | G18: 1 | H18: 1 | I18: 0.5 | J18: 0.5 | L18: =C18+D18+E18 -> 9 | M18: =F18+G18+H18+I18+J18+K18 -> 8 | N18: =M18+L18 -> 17 | O18: 8
A19: CEBPL | B19: 3 | C19: 8 | D19: 3 | E19: 1 | F19: 1 | I19: 0.5 | J19: 0.5 | L19: =C19+D19+E19 -> 12 | M19: =F19+G19+H19+I19+J19+K19 -> 2 | N19: =M19+L19 -> 14 | O19: 9
A20: BPAURA | B20: 2 | C20: 1 | D20: 1 | F20: 5 | I20: 4.5 | J20: 2.5 | L20: =C20+D20+E20 -> 2 | M20: =F20+G20+H20+I20+J20+K20 -> 12 | N20: =M20+L20 -> 14 | O20: NC
A21: CEPAC | B21: 2 | C21: 8 | D21: 1 | F21: 1 | L21: =C21+D21+E21 -> 9 | M21: =F21+G21+H21+I21+J21+K21 -> 1 | N21: =M21+L21 -> 10 | O21: NC
A22: ECUVIE | B22: 2 | C22: 1 | D22: 1 | I22: 2 | L22: =C22+D22+E22 -> 2 | M22: =F22+G22+H22+I22+J22+K22 -> 2 | N22: =M22+L22 -> 4 | O22: NC
A23: CEN | B23: 1 | C23: 8 | L23: =C23+D23+E23 -> 8 | M23: =F23+G23+H23+I23+J23+K23 -> 0 | N23: =M23+L23 -> 8 | O23: NC
A24: CECAZ | B24: 1 | C24: 14 | L24: =C24+D24+E24 -> 14 | M24: =F24+G24+H24+I24+J24+K24 -> 0 | N24: =M24+L24 -> 14 | O24: NC
A25: CERA | B25: 1 | C25: 2 | I25: 0.5 | L25: =C25+D25+E25 -> 2 | M25: =F25+G25+H25+I25+J25+K25 -> 0.5 | N25: =M25+L25 -> 2.5 | O25: NC
A26: BPGO | B26: 0 | F26: 8 | I26: 4 | J26: 4 | L26: =C26+D26+E26 -> 0 | M26: =F26+G26+H26+I26+J26+K26 -> 16 | N26: =M26+L26 -> 16 | O26: NC
A27: CCOOP | B27: 0 | I27: 4.5 | J27: 0.5 | L27: =C27+D27+E27 -> 0 | M27: =F27+G27+H27+I27+J27+K27 -> 5 | N27: =M27+L27 -> 5 | O27: NC
A28: CELC | B28: 0 | I28: 0.5 | L28: =C28+D28+E28 -> 0 | M28: =F28+G28+H28+I28+J28+K28 -> 0.5 | N28: =M28+L28 -> 0.5 | O28: NC
A29: BPCE ASSURANCE | B29: 0 | I29: 0.5 | L29: =C29+D29+E29 -> 0 | M29: =F29+G29+H29+I29+J29+K29 -> 0.5 | N29: =M29+L29 -> 0.5 | O29: NC
A30: CEBFC | B30: 0 | L30: =C30+D30+E30 -> 0 | M30: =F30+G30+H30+I30+J30+K30 -> 0 | N30: =M30+L30 -> 0 | O30: NC
A31: BPALC | B31: 0 | L31: =C31+D31+E31 -> 0 | M31: =F31+G31+H31+I31+J31+K31 -> 0 | N31: =M31+L31 -> 0 | O31: NC
E35: =Accueil!B2 -> Challenge Badminton
E36: =Accueil!B5&" "&Accueil!B6 -> BAILLY ROMAINVILLERS 2026
G37: Challenges par Equipe
A40: Classement général EQUIPE FEMMES (Simples+doubles femmes + 1/2 Doubles mixtes)
B42: nb S | C42: Simples D | F42: Doubles Dames | I42: Doubles Mixte | L42: Total | M42: Total | N42: Total | O42: Class
A43: Entreprises | B43: minima | O43: général
C44: 1er classé | D44: 2ème | E44: 3ème | F44: 1er classé | G44: 2ème | H44: 3ème | I44: 1er classé | J44: 2ème | K44: 3ème | L44: Simples | M44: Doubles | N44: Général | O44: Equipe
A45: CEAPC | B45: 3 | C45: 12 | D45: 10 | E45: 5 | F45: 5 | G45: 1 | I45: 4.5 | J45: 4.5 | K45: 2 | L45: =SUM(C45:E45) -> 27 | M45: =I45+J45+K45+F45+G45+H45 -> 17 | N45: =M45+L45 -> 44 | O45: 1
A46: BPAURA | B46: 3 | C46: 14 | D46: 9 | E46: 1 | F46: 10 | G46: 1 | I46: 4.5 | J46: 2.5 | L46: =SUM(C46:E46) -> 24 | M46: =I46+J46+K46+F46+G46+H46 -> 18 | N46: =M46+L46 -> 42 | O46: 2
A47: BPCE SA | B47: 2 | C47: 13 | D47: 1 | I47: 7 | J47: 5.5 | K47: 5 | L47: =SUM(C47:E47) -> 14 | M47: =I47+J47+K47+F47+G47+H47 -> 17.5 | N47: =M47+L47 -> 31.5 | O47: NC
A48: CASDEN | B48: 2 | C48: 5 | D48: 1 | F48: 1 | G48: 1 | I48: 0.5 | J48: 0.5 | L48: =SUM(C48:E48) -> 6 | M48: =I48+J48+K48+F48+G48+H48 -> 3 | N48: =M48+L48 -> 9 | O48: NC
A49: CEBPL | B49: 2 | C49: 5 | D49: 1 | I49: 0.5 | J49: 0.5 | L49: =SUM(C49:E49) -> 6 | M49: =I49+J49+K49+F49+G49+H49 -> 1 | N49: =M49+L49 -> 7 | O49: NC
...

Sheet Fair Play
A6: Le Trophée MUTUELLE du Fair Play attribué à
A8: Nom | B8: PIEL
A9: Prénom | B9: MARTIN
A10: ENTITE | B10: BPCE IT
A12: Nom
A13: Prénom
A14: ENTITE

Sheet Trophée Entreprises
B4: ENTITE | C4: Simple H | D4: Simple D | E4: Doubles H | F4: Doubles D | G4: Double Mixte | H4: TOTAL | I4: Classement
B5: BPCE | C5: 13 | D5: 13 | E5: 12 | F5: 0 | G5: 14 | H5: =SUM(C5:G5) -> 52 | I5: 1
B6: PALATINE | C6: 11 | D6: 5 | E6: 11 | F6: 14 | G6: 5 | H6: =SUM(C6:G6) -> 46 | I6: 2
B7: BPCE-IT | C7: 10 | D7: 1 | E7: 13 | F7: 9 | G7: 12 | H7: =SUM(C7:G7) -> 45 | I7: 3
B8: CEAPC | C8: 9 | D8: 12 | E8: 8 | F8: 5 | G8: 9 | H8: =SUM(C8:G8) -> 43 | I8: 4
B9: CEHDF | C9: 15 | D9: 8 | E9: 14 | F9: 0 | G9: 5 | H9: =SUM(C9:G9) -> 42 | I9: 5
B10: BPAURA | C10: 1 | D10: 14 | E10: 5 | F10: 10 | G10: 9 | H10: =SUM(C10:G10) -> 39 | I10: 6
B11: NATIXIS | C11: 12 | D11: 0 | E11: 9 | F11: 0 | G11: 13 | H11: =SUM(C11:G11) -> 34 | I11: 7
B12: BPGO | C12: 0 | D12: 0 | E12: 8 | F12: 11 | G12: 8 | H12: =SUM(C12:G12) -> 27 | I12: 8
B13: BPCE-SI | C13: 9 | D13: 0 | E13: 15 | F13: 0 | G13: 0 | H13: =SUM(C13:G13) -> 24 | I13: 9
B14: CELDA | C14: 0 | D14: 15 | E14: 0 | F14: 0 | G14: 0 | H14: =SUM(C14:G14) -> 15 | I14: 10
B15: CREDIT COOPERATIF | C15: 0 | D15: 1 | E15: 0 | F15: 5 | G15: 9 | H15: =SUM(C15:G15) -> 15 | I15: 11
B16: BPCE ASS | C16: 12 | D16: 0 | E16: 0 | F16: 1 | G16: 1 | H16: =SUM(C16:G16) -> 14 | I16: 12
... B25: CELC | C25: 0 | D25: 0 | E25: 0 | F25: 0 | G25: 1 | H25: =SUM(C25:G25) -> 1 | I25: 21
B31: =COUNTA(B5:B30) -> 21
