Workbook

Sheet joueurs base
A1: Nom | B1: Prénom | D1: Statut | E1: Sexe | F1: Index | G1: Entité | H1: Licence FFG | I1: série
A2: LEURS | B2: JEFF | C2: =A2&" "&B2 -> LEURS JEFF | D2: S | E2: H | F2: 11.3 | G2: CEMP | H2: 525212217 | I2: =IF(E2="H",IF(F2<15.5,"H1",IF(F2<24.5,"H2","H3")),IF(E2="F",IF(F2<24.5,"F1","F2"),"")) -> H1
A3: DA COSTA | B3: Daniel | C3: =A3&" "&B3 -> DA COSTA Daniel | D3: S | E3: H | F3: 22.6 | G3: CEIDF | H3: 3545300 | I3: =IF(E3="H",IF(F3<15.5,"H1",IF(F3<24.5,"H2","H3")),IF(E3="F",IF(F3<24.5,"F1","F2"),"")) -> H2
A4: BRKIC | B4: Alexandre | C4: =A4&" "&B4 -> BRKIC Alexandre | D4: S | E4: H | F4: 18.1 | G4: CEIDF | H4: 48647147 | I4: =IF(E4="H",IF(F4<15.5,"H1",IF(F4<24.5,"H2","H3")),IF(E4="F",IF(F4<24.5,"F1","F2"),"")) -> H2
A5: FOUASSEAU-QUERBES | B5: Pascale | C5: =A5&" "&B5 -> FOUASSEAU-QUERBES Pascale | D5: S | E5: F | F5: 54 | G5: CEIDF | H5: 44444355 | I5: =IF(E5="H",IF(F5<15.5,"H1",IF(F5<24.5,"H2","H3")),IF(E5="F",IF(F5<24.5,"F1","F2"),"")) -> F2
A6: QUERBES | B6: Patrice | C6: =A6&" "&B6 -> QUERBES Patrice | D6: E | E6: H | F6: 40.5 | G6: CEIDF | H6: 44455352 | I6: =IF(E6="H",IF(F6<15.5,"H1",IF(F6<24.5,"H2","H3")),IF(E6="F",IF(F6<24.5,"F1","F2"),"")) -> H3
A7: LECOINTRE | B7: Richard | C7: =A7&" "&B7 -> LECOINTRE Richard | D7: S | E7: H | F7: 10.8 | G7: CEIDF | H7: 512833035 | I7: =IF(E7="H",IF(F7<15.5,"H1",IF(F7<24.5,"H2","H3")),IF(E7="F",IF(F7<24.5,"F1","F2"),"")) -> H1
A8: BAUDIN | B8: Anne | C8: =A8&" "&B8 -> BAUDIN Anne | D8: S | E8: F | F8: 11.2 | G8: CEIDF | H8: O45 762 186 | I8: =IF(E8="H",IF(F8<15.5,"H1",IF(F8<24.5,"H2","H3")),IF(E8="F",IF(F8<24.5,"F1","F2"),"")) -> F1
A9: BAUDIN | B9: Gilles | C9: =A9&" "&B9 -> BAUDIN Gilles | D9: E | E9: H | F9: 15.9 | G9: CEIDF | H9: 543819163 | I9: =IF(E9="H",IF(F9<15.5,"H1",IF(F9<24.5,"H2","H3")),IF(E9="F",IF(F9<24.5,"F1","F2"),"")) -> H2
A10: ILLIVI | B10: Sylvain | C10: =A10&" "&B10 -> ILLIVI Sylvain | D10: S | E10: H | F10: 33.9 | G10: CEIDF | H10: 042 898 182 | I10: =IF(E10="H",IF(F10<15.5,"H1",IF(F10<24.5,"H2","H3")),IF(E10="F",IF(F10<24.5,"F1","F2"),"")) -> H3
A11: CIRENI | B11: Maria-Grazia | C11: =A11&" "&B11 -> CIRENI Maria-Grazia | D11: E | E11: F | F11: 38.7 | G11: CEIDF | H11: 41775191 | I11: =IF(E11="H",IF(F11<15.5,"H1",IF(F11<24.5,"H2","H3")),IF(E11="F",IF(F11<24.5,"F1","F2"),"")) -> F2
A12: MEDENOUVO | B12: Rolic | C12: =A12&" "&B12 -> MEDENOUVO Rolic | D12: S | E12: H | F12: 26.1 | G12: CEIDF | H12: 514651344 | I12: =IF(E12="H",IF(F12<15.5,"H1",IF(F12<24.5,"H2","H3")),IF(E12="F",IF(F12<24.5,"F1","F2"),"")) -> H3
A13: LETHONGSAVARN | B13: Vivien | C13: =A13&" "&B13 -> LETHONGSAVARN Vivien | D13: E | E13: H | F13: 24.3 | G13: CEIDF | H13: 545649245 | I13: =IF(E13="H",IF(F13<15.5,"H1",IF(F13<24.5,"H2","H3")),IF(E13="F",IF(F13<24.5,"F1","F2"),"")) -> H2
A14: LE DRU | B14: Jean-Jacques | C14: =A14&" "&B14 -> LE DRU Jean-Jacques | D14: S | E14: H | F14: 22.9 | G14: CEIDF | H14: 520138218 | I14: =IF(E14="H",IF(F14<15.5,"H1",IF(F14<24.5,"H2","H3")),IF(E14="F",IF(F14<24.5,"F1","F2"),"")) -> H2
A15: LECLERCQ | B15: Alexandre | C15: =A15&" "&B15 -> LECLERCQ Alexandre | D15: S | E15: H | F15: 28.9 | G15: CEIDF | H15: 512643053 | I15: =IF(E15="H",IF(F15<15.5,"H1",IF(F15<24.5,"H2","H3")),IF(E15="F",IF(F15<24.5,"F1","F2"),"")) -> H3
A16: CHUSSEAU | B16: Cedric | C16: =A16&" "&B16 -> CHUSSEAU Cedric | D16: S | E16: H | F16: 21 | G16: CEIDF | H16: 42078247 | I16: =IF(E16="H",IF(F16<15.5,"H1",IF(F16<24.5,"H2","H3")),IF(E16="F",IF(F16<24.5,"F1","F2"),"")) -> H2
A17: SAINT-ETIENNE | B17: Fabrice | C17: =A17&" "&B17 -> SAINT-ETIENNE Fabrice | D17: S | E17: H | F17: 51.7 | G17: CEIDF | H17: 47460374 | I17: =IF(E17="H",IF(F17<15.5,"H1",IF(F17<24.5,"H2","H3")),IF(E17="F",IF(F17<24.5,"F1","F2"),"")) -> H3
A18: COSTA | B18: Eduardo | C18: =A18&" "&B18 -> COSTA Eduardo | D18: E | E18: H | F18: 23.7 | G18: CEIDF | H18: 534369194 | I18: =IF(E18="H",IF(F18<15.5,"H1",IF(F18<24.5,"H2","H3")),IF(E18="F",IF(F18<24.5,"F1","F2"),"")) -> H2
A19: LAMBILLON | B19: Sebastien | C19: =A19&" "&B19 -> LAMBILLON Sebastien | D19: S | E19: H | F19: 18.2 | G19: CEIDF | H19: 512042032 | I19: =IF(E19="H",IF(F19<15.5,"H1",IF(F19<24.5,"H2","H3")),IF(E19="F",IF(F19<24.5,"F1","F2"),"")) -> H2
A20: GONDOLE | B20: Philippe | C20: =A20&" "&B20 -> GONDOLE Philippe | D20: S | E20: H | F20: 19 | G20: CEIDF | H20: 541526116 | I20: =IF(E20="H",IF(F20<15.5,"H1",IF(F20<24.5,"H2","H3")),IF(E20="F",IF(F20<24.5,"F1","F2"),"")) -> H2
A21: MOSTEFAI | B21: Jean-claude | C21: =A21&" "&B21 -> MOSTEFAI Jean-claude | D21: S | E21: H | F21: 26.4 | G21: CEIDF | H21: 531707074 | I21: =IF(E21="H",IF(F21<15.5,"H1",IF(F21<24.5,"H2","H3")),IF(E21="F",IF(F21<24.5,"F1","F2"),"")) -> H3
A22: BOUSSELET | B22: Bertrand | C22: =A22&" "&B22 -> BOUSSELET Bertrand | D22: S | E22: H | F22: 15.5 | G22: CEIDF | H22: 3837290 | I22: =IF(E22="H",IF(F22<15.5,"H1",IF(F22<24.5,"H2","H3")),IF(E22="F",IF(F22<24.5,"F1","F2"),"")) -> H2
... A32: LALANNE | B32: Franck | C32: =A32&" "&B32 -> LALANNE Franck | D32: S | E32: H | F32: 24.8 | G32: BPGO | H32: 543213165 | I32: =IF(E32="H",IF(F32<15.5,"H1",IF(F32<24.5,"H2","H3")),IF(E32="F",IF(F32<24.5,"F1","F2"),"")) -> H3
A33: WINOGRAD | B33: Serge | C33: =A33&" "&B33 -> WINOGRAD Serge | D33: S | E33: H | F33: 16,7 | G33: CEAPC | H33: 49810064 | I33: =IF(E33="H",IF(F33<15.5,"H1",IF(F33<24.5,"H2","H3")),IF(E33="F",IF(F33<24.5,"F1","F2"),"")) -> H3
A34: MEROUR | B34: Stéphane | C34: =A34&" "&B34 -> MEROUR Stéphane | D34: S | E34: H | F34: 20,2 | G34: CEAPC | H34: 511 843 142 | I34: =IF(E34="H",IF(F34<15.5,"H1",IF(F34<24.5,"H2","H3")),IF(E34="F",IF(F34<24.5,"F1","F2"),"")) -> H3
A35: COUTURIER | B35: Bénédicte | C35: =A35&" "&B35 -> COUTURIER Bénédicte | D35: S | E35: F | F35: 38,5 | G35: CEAPC | H35: 544388225 | I35: =IF(E35="H",IF(F35<15.5,"H1",IF(F35<24.5,"H2","H3")),IF(E35="F",IF(F35<24.5,"F1","F2"),"")) -> F2
A36: MOCAER | B36: Elodie | C36: =A36&" "&B36 -> MOCAER Elodie | D36: S | E36: F | F36: 52,8 | G36: CEAPC | H36: 514 113 372 | I36: =IF(E36="H",IF(F36<15.5,"H1",IF(F36<24.5,"H2","H3")),IF(E36="F",IF(F36<24.5,"F1","F2"),"")) -> F2
A37: ESCOT | B37: Marc | C37: =A37&" "&B37 -> ESCOT Marc | D37: R | E37: H | F37: 27,2 | G37: CEAPC | H37: 45194339 | I37: =IF(E37="H",IF(F37<15.5,"H1",IF(F37<24.5,"H2","H3")),IF(E37="F",IF(F37<24.5,"F1","F2"),"")) -> H3
A38: VIANNAIS | B38: Dominique | C38: =A38&" "&B38 -> VIANNAIS Dominique | D38: R | E38: H | F38: 35.3 | G38: CEAPC | H38: 43140326 | I38: =IF(E38="H",IF(F38<15.5,"H1",IF(F38<24.5,"H2","H3")),IF(E38="F",IF(F38<24.5,"F1","F2"),"")) -> H3
A39: DIZET | B39: Loïc | C39: =A39&" "&B39 -> DIZET Loïc | D39: S | E39: H | F39: 15.7 | G39: CEAPC | H39: 43774199 | I39: =IF(E39="H",IF(F39<15.5,"H1",IF(F39<24.5,"H2","H3")),IF(E39="F",IF(F39<24.5,"F1","F2"),"")) -> H2
A40: BOULDOIRES | B40: Bertrand | C40: =A40&" "&B40 -> BOULDOIRES Bertrand | D40: S | E40: H | F40: 7.1 | G40: CEAPC | H40: 52 541 21 26 | I40: =IF(E40="H",IF(F40<15.5,"H1",IF(F40<24.5,"H2","H3")),IF(E40="F",IF(F40<24.5,"F1","F2"),"")) -> H1
A41: LAMARQUE | B41: Pierre | C41: =A41&" "&B41 -> LAMARQUE Pierre | D41: S | E41: H | F41: 20.5 | G41: CEAPC | H41: 54 211 62 36 | I41: =IF(E41="H",IF(F41<15.5,"H1",IF(F41<24.5,"H2","H3")),IF(E41="F",IF(F41<24.5,"F1","F2"),"")) -> H2
A42: ANDURAND | B42: Jérôme | C42: =A42&" "&B42 -> ANDURAND Jérôme | D42: S | E42: H | F42: 15.4 | G42: CEAPC | H42: 514507116 | I42: =IF(E42="H",IF(F42<15.5,"H1",IF(F42<24.5,"H2","H3")),IF(E42="F",IF(F42<24.5,"F1","F2"),"")) -> H1
A43: NEAU | B43: Valentin | C43: =A43&" "&B43 -> NEAU Valentin | D43: S | E43: H | F43: 0.9 | G43: CEAPC | H43: 543886144 | I43: =IF(E43="H",IF(F43<15.5,"H1",IF(F43<24.5,"H2","H3")),IF(E43="F",IF(F43<24.5,"F1","F2"),"")) -> H1
A44: SAUVAIRE | B44: Christophe | C44: =A44&" "&B44 -> SAUVAIRE Christophe | D44: E | E44: H | F44: 11.7 | G44: CEAPC | H44: 545216079 | I44: =IF(E44="H",IF(F44<15.5,"H1",IF(F44<24.5,"H2","H3")),IF(E44="F",IF(F44<24.5,"F1","F2"),"")) -> H1
A45: DECRESSAIN | B45: Amaury | C45: =A45&" "&B45 -> DECRESSAIN Amaury | D45: S | E45: H | F45: 14.4 | G45: CEAPC | H45: 541 770 209 | I45: =IF(E45="H",IF(F45<15.5,"H1",IF(F45<24.5,"H2","H3")),IF(E45="F",IF(F45<24.5,"F1","F2"),"")) -> H1
A46: MONTOUT | B46: Fabrice | C46: =A46&" "&B46 -> MONTOUT Fabrice | D46: S | E46: H | F46: 45.7 | G46: CEAPC | H46: 522101360 | I46: =IF(E46="H",IF(F46<15.5,"H1",IF(F46<24.5,"H2","H3")),IF(E46="F",IF(F46<24.5,"F1","F2"),"")) -> H3
A47: DULAU | B47: Emmanuel | C47: =A47&" "&B47 -> DULAU Emmanuel | D47: S | E47: H | F47: 15.6 | G47: CEAPC | H47: 525284328 | I47: =IF(E47="H",IF(F47<15.5,"H1",IF(F47<24.5,"H2","H3")),IF(E47="F",IF(F47<24.5,"F1","F2"),"")) -> H2
A48: BEUVELOT | B48: Gaël | C48: =A48&" "&B48 -> BEUVELOT Gaël | D48: S | E48: H | F48: 10.1 | G48: CEAPC | H48: 533283215 | I48: =IF(E48="H",IF(F48<15.5,"H1",IF(F48<24.5,"H2","H3")),IF(E48="F",IF(F48<24.5,"F1","F2"),"")) -> H1
A49: COLL | B49: Marlène | C49: =A49&" "&B49 -> COLL Marlène | D49: S | E49: F | F49: 35.7 | G49: CEAPC | H49: 41992290 | I49: =IF(E49="H",IF(F49<15.5,"H1",IF(F49<24.5,"H2","H3")),IF(E49="F",IF(F49<24.5,"F1","F2"),"")) -> F2
...

Sheet joueurs  
A1: Nom | B1: Prénom | C1: Joueurs | D1: Statut | E1: Sexe | F1: index | G1: Entité | H1: Licence FFG | I1: série
A2: ADAM | B2: HUBERT | C2: =A2&" "&B2 -> ADAM HUBERT | D2: S | E2: H | F2: 29.4 | G2: CEHDF | H2: 540498177 | I2: =IF(E2="H",IF(F2<15.5,"H1",IF(F2<24.5,"H2","H3")),IF(E2="F",IF(F2<24.5,"F1","F2"),"")) -> H3
A3: ALAMICHEL | B3: Valérie | C3: =A3&" "&B3 -> ALAMICHEL Valérie | D3: E | E3: F | F3: 34.1 | G3: BPCE SA | H3: 522832259 | I3: =IF(E3="H",IF(F3<15.5,"H1",IF(F3<24.5,"H2","H3")),IF(E3="F",IF(F3<24.5,"F1","F2"),"")) -> F2
A4: ALLAIN | B4: LOIC | C4: =A4&" "&B4 -> ALLAIN LOIC | D4: S | E4: H | F4: 32.6 | G4: BPBFC | H4: 527813190 | I4: =IF(E4="H",IF(F4<15.5,"H1",IF(F4<24.5,"H2","H3")),IF(E4="F",IF(F4<24.5,"F1","F2"),"")) -> H3
A5: ANDURAND | B5: Jérôme | C5: =A5&" "&B5 -> ANDURAND Jérôme | D5: S | E5: H | F5: 15.4 | G5: CEAPC | H5: 514507116 | I5: =IF(E5="H",IF(F5<15.5,"H1",IF(F5<24.5,"H2","H3")),IF(E5="F",IF(F5<24.5,"F1","F2"),"")) -> H1
A6: ASTIER | B6: DOMINIQUE | C6: =A6&" "&B6 -> ASTIER DOMINIQUE | D6: S | E6: H | F6: 24.6 | G6: BPAURA | H6: 47116117 | I6: =IF(E6="H",IF(F6<15.5,"H1",IF(F6<24.5,"H2","H3")),IF(E6="F",IF(F6<24.5,"F1","F2"),"")) -> H3
A7: AUBRY | B7: MARC | C7: =A7&" "&B7 -> AUBRY MARC | D7: S | E7: H | F7: 20.2 | G7: CELC | H7: 510880336 | I7: =IF(E7="H",IF(F7<15.5,"H1",IF(F7<24.5,"H2","H3")),IF(E7="F",IF(F7<24.5,"F1","F2"),"")) -> H2
A8: AYMARD | B8: FREDERIC | C8: =A8&" "&B8 -> AYMARD FREDERIC | D8: S | E8: H | F8: 16.5 | G8: BPOC | H8: 526237207 | I8: =IF(E8="H",IF(F8<15.5,"H1",IF(F8<24.5,"H2","H3")),IF(E8="F",IF(F8<24.5,"F1","F2"),"")) -> H2 | K8: saisir les index à jour du mardi précédent l'événement,
A9: BACHELARD | B9: Sébastien | C9: =A9&" "&B9 -> BACHELARD Sébastien | D9: S | E9: H | F9: 9.4 | G9: BPCE IT | H9: 543699178 | I9: =IF(E9="H",IF(F9<15.5,"H1",IF(F9<24.5,"H2","H3")),IF(E9="F",IF(F9<24.5,"F1","F2"),"")) -> H1 | K9: dans la colonne F, soit le mardi 8 septembre.
A10: BARROT | B10: MICHEL | C10: =A10&" "&B10 -> BARROT MICHEL | D10: S | E10: H | F10: 18.5 | G10: NATIXIS | H10: 520164109 | I10: =IF(E10="H",IF(F10<15.5,"H1",IF(F10<24.5,"H2","H3")),IF(E10="F",IF(F10<24.5,"F1","F2"),"")) -> H2
A11: BARTHELEMI | B11: Philippe | C11: =A11&" "&B11 -> BARTHELEMI Philippe | D11: S | E11: H | F11: 43.1 | G11: CEGC | H11: 517273355 | I11: =IF(E11="H",IF(F11<15.5,"H1",IF(F11<24.5,"H2","H3")),IF(E11="F",IF(F11<24.5,"F1","F2"),"")) -> H3 | K11: maj 30/08 sur index " frontiére"
A12: BATAILLE | B12: Philippe | C12: =A12&" "&B12 -> BATAILLE Philippe | D12: S | E12: H | F12: 19.3 | G12: CEBPL | H12: 48652194 | I12: =IF(E12="H",IF(F12<15.5,"H1",IF(F12<24.5,"H2","H3")),IF(E12="F",IF(F12<24.5,"F1","F2"),"")) -> H2
A13: BAUDIN | B13: Anne | C13: =A13&" "&B13 -> BAUDIN Anne | D13: S | E13: F | F13: 11.2 | G13: CEIDF | H13: O45 762 186 | I13: =IF(E13="H",IF(F13<15.5,"H1",IF(F13<24.5,"H2","H3")),IF(E13="F",IF(F13<24.5,"F1","F2"),"")) -> F1 | K13: Attention forfait
A14: BAUDIN | B14: Gilles | C14: =A14&" "&B14 -> BAUDIN Gilles | D14: E | E14: H | F14: 15.6 | G14: CEIDF | H14: 543819163 | I14: =IF(E14="H",IF(F14<15.5,"H1",IF(F14<24.5,"H2","H3")),IF(E14="F",IF(F14<24.5,"F1","F2"),"")) -> H2 | K14: VARCHON Christine
A15: BEAUDOUIN | B15: ROMAIN | C15: =A15&" "&B15 -> BEAUDOUIN ROMAIN | D15: S | E15: H | F15: 17.5 | G15: NATIXIS | H15: 542293250 | I15: =IF(E15="H",IF(F15<15.5,"H1",IF(F15<24.5,"H2","H3")),IF(E15="F",IF(F15<24.5,"F1","F2"),"")) -> H2 | K15: CARRETERO Cyril | M15: 46252
A16: BENASSI | B16: Thibaud | C16: =A16&" "&B16 -> BENASSI Thibaud | D16: E | E16: H | F16: 46 | G16: sponsor | H16: 510707363 | I16: =IF(E16="H",IF(F16<15.5,"H1",IF(F16<24.5,"H2","H3")),IF(E16="F",IF(F16<24.5,"F1","F2"),"")) -> H3 | K16: TARGA Stephane | M16: 46264
A17: BENOIT | B17: Christine | C17: =A17&" "&B17 -> BENOIT Christine | D17: S | E17: F | F17: 40 | G17: CEGEE | H17: 522770334 | I17: =IF(E17="H",IF(F17<15.5,"H1",IF(F17<24.5,"H2","H3")),IF(E17="F",IF(F17<24.5,"F1","F2"),"")) -> F2 | K17: NEAU Valentin | M17: 46265
A18: BERTON | B18: Nicolas | C18: =A18&" "&B18 -> BERTON Nicolas | D18: S | E18: H | F18: 11.4 | G18: BPALC | H18: 539465204 | I18: =IF(E18="H",IF(F18<15.5,"H1",IF(F18<24.5,"H2","H3")),IF(E18="F",IF(F18<24.5,"F1","F2"),"")) -> H1 | K18: MONTOUT fabrice | M18: 46265
A19: BEUVELOT | B19: Gaël | C19: =A19&" "&B19 -> BEUVELOT Gaël | D19: S | E19: H | F19: 11.9 | G19: CEAPC | H19: 533283215 | I19: =IF(E19="H",IF(F19<15.5,"H1",IF(F19<24.5,"H2","H3")),IF(E19="F",IF(F19<24.5,"F1","F2"),"")) -> H1 | K19: FERRANDON Agnés | M19: 46268 | N19: présent | O19: F1
A20: BOUDON | B20: PIERRE | C20: =A20&" "&B20 -> BOUDON PIERRE | D20: S | E20: H | F20: 13 | G20: NATIXIS | H20: 43937161 | I20: =IF(E20="H",IF(F20<15.5,"H1",IF(F20<24.5,"H2","H3")),IF(E20="F",IF(F20<24.5,"F1","F2"),"")) -> H1 | K20: SIMONIN Marie-Claire | M20: 46272
A21: BOULDOIRES | B21: Bertrand | C21: =A21&" "&B21 -> BOULDOIRES Bertrand | D21: S | E21: H | F21: 7 | G21: CEAPC | H21: 52 541 21 26 | I21: =IF(E21="H",IF(F21<15.5,"H1",IF(F21<24.5,"H2","H3")),IF(E21="F",IF(F21<24.5,"F1","F2"),"")) -> H1 | K21: SIMONIN Patrick | M21: 46272
A22: BOURSIER | B22: ANTHONY | C22: =A22&" "&B22 -> BOURSIER ANTHONY | D22: S | E22: H | F22: 21.2 | G22: CELC | H22: 547840202 | I22: =IF(E22="H",IF(F22<15.5,"H1",IF(F22<24.5,"H2","H3")),IF(E22="F",IF(F22<24.5,"F1","F2"),"")) -> H2 | K22: CHIFFARD Yves | M22: 46272 | N22: présent | O22: H2
A23: BOUSSELET | B23: Bertrand | C23: =A23&" "&B23 -> BOUSSELET Bertrand | D23: S | E23: H | F23: 15.5 | G23: CEIDF | H23: 3837290 | I23: =IF(E23="H",IF(F23<15.5,"H1",IF(F23<24.5,"H2","H3")),IF(E23="F",IF(F23<24.5,"F1","F2"),"")) -> H2 | K23: SOUBIRON Béatrice | M23: 46273
A24: BRIGNON | B24: MICHEL | C24: =A24&" "&B24 -> BRIGNON MICHEL | D24: S | E24: H | F24: 20.4 | G24: CELC | H24: 515715265 | I24: =IF(E24="H",IF(F24<15.5,"H1",IF(F24<24.5,"H2","H3")),IF(E24="F",IF(F24<24.5,"F1","F2"),"")) -> H2 | K24: LESIEUR Anne-Valérie | M24: 46273
A25: BRKIC | B25: Alexandre | C25: =A25&" "&B25 -> BRKIC Alexandre | D25: S | E25: H | F25: 19 | G25: CEIDF | H25: 48647147 | I25: =IF(E25="H",IF(F25<15.5,"H1",IF(F25<24.5,"H2","H3")),IF(E25="F",IF(F25<24.5,"F1","F2"),"")) -> H2 | K25: LESIEUR Philippe | M25: 46273
A26: BURSON | B26: Didier | C26: =A26&" "&B26 -> BURSON Didier | D26: S | E26: H | F26: 41.6 | G26: CEBFC | H26: 546096359 | I26: =IF(E26="H",IF(F26<15.5,"H1",IF(F26<24.5,"H2","H3")),IF(E26="F",IF(F26<24.5,"F1","F2"),"")) -> H3
A27: CAILLAT | B27: Pierre Yves | C27: =A27&" "&B27 -> CAILLAT Pierre Yves | D27: S | E27: H | F27: 24.3 | G27: PALATINE | H27: 217085 | I27: =IF(E27="H",IF(F27<15.5,"H1",IF(F27<24.5,"H2","H3")),IF(E27="F",IF(F27<24.5,"F1","F2"),"")) -> H2
A28: CHAMOUTON | B28: Patrick | C28: =A28&" "&B28 -> CHAMOUTON Patrick | D28: S | E28: H | F28: 37 | G28: CEBFC | H28: 533662190 | I28: =IF(E28="H",IF(F28<15.5,"H1",IF(F28<24.5,"H2","H3")),IF(E28="F",IF(F28<24.5,"F1","F2"),"")) -> H3
A29: CHENOUNA | B29: Rachel | C29: =A29&" "&B29 -> CHENOUNA Rachel | D29: S | E29: F | F29: 40.4 | G29: CEIDF | H29: 42104315 | I29: =IF(E29="H",IF(F29<15.5,"H1",IF(F29<24.5,"H2","H3")),IF(E29="F",IF(F29<24.5,"F1","F2"),"")) -> F2 | K29: PIERRON Clément | N29: présent | O29: avec H1
A30: CHENOUNA | B30: Djilali | C30: =A30&" "&B30 -> CHENOUNA Djilali | D30: E | E30: H | F30: 21.4 | G30: CEIDF | H30: 42075243 | I30: =IF(E30="H",IF(F30<15.5,"H1",IF(F30<24.5,"H2","H3")),IF(E30="F",IF(F30<24.5,"F1","F2"),"")) -> H2 | K30: LEROYER Patrick | M30: 46220
A31: CHUSSEAU | B31: Cedric | C31: =A31&" "&B31 -> CHUSSEAU Cedric | D31: S | E31: H | F31: 21.6 | G31: CEIDF | H31: 42078247 | I31: =IF(E31="H",IF(F31<15.5,"H1",IF(F31<24.5,"H2","H3")),IF(E31="F",IF(F31<24.5,"F1","F2"),"")) -> H2
A32: CIRENI | B32: Maria-Grazia | C32: =A32&" "&B32 -> CIRENI Maria-Grazia | D32: E | E32: F | F32: 38 | G32: CEIDF | H32: 41775191 | I32: =IF(E32="H",IF(F32<15.5,"H1",IF(F32<24.5,"H2","H3")),IF(E32="F",IF(F32<24.5,"F1","F2"),"")) -> F2
A33: COLL | B33: Marlène | C33: =A33&" "&B33 -> COLL Marlène | D33: S | E33: F | F33: 35.7 | G33: CEAPC | H33: 41992290 | I33: =IF(E33="H",IF(F33<15.5,"H1",IF(F33<24.5,"H2","H3")),IF(E33="F",IF(F33<24.5,"F1","F2"),"")) -> F2
A34: CORDIER | B34: Matthieu | C34: =A34&" "&B34 -> CORDIER Matthieu | D34: S | E34: H | F34: 3.2 | G34: PALATINE | H34: 43346122 | I34: =IF(E34="H",IF(F34<15.5,"H1",IF(F34<24.5,"H2","H3")),IF(E34="F",IF(F34<24.5,"F1","F2"),"")) -> H1
A35: CORMIER | B35: Brice | C35: =A35&" "&B35 -> CORMIER Brice | D35: S | E35: H | F35: 20.3 | G35: BPCE SA | H35: 522833258 | I35: =IF(E35="H",IF(F35<15.5,"H1",IF(F35<24.5,"H2","H3")),IF(E35="F",IF(F35<24.5,"F1","F2"),"")) -> H2
A36: COSTA | B36: Eduardo | C36: =A36&" "&B36 -> COSTA Eduardo | D36: E | E36: H | F36: 24.8 | G36: CEIDF | H36: 534369194 | I36: =IF(E36="H",IF(F36<15.5,"H1",IF(F36<24.5,"H2","H3")),IF(E36="F",IF(F36<24.5,"F1","F2"),"")) -> H3
A37: COUDEVILLE | B37: THIBAUT | C37: =A37&" "&B37 -> COUDEVILLE THIBAUT | D37: E | E37: H | F37: 16.5 | G37: BPCE SI | H37: 520873138 | I37: =IF(E37="H",IF(F37<15.5,"H1",IF(F37<24.5,"H2","H3")),IF(E37="F",IF(F37<24.5,"F1","F2"),"")) -> H2
A38: COUTURIER | B38: Bénédicte | C38: =A38&" "&B38 -> COUTURIER Bénédicte | D38: S | E38: F | F38: 38.5 | G38: CEAPC | H38: 544388225 | I38: =IF(E38="H",IF(F38<15.5,"H1",IF(F38<24.5,"H2","H3")),IF(E38="F",IF(F38<24.5,"F1","F2"),"")) -> F2
A39: CRIERE | B39: FREDERIC | C39: =A39&" "&B39 -> CRIERE FREDERIC | D39: S | E39: H | F39: 16.9 | G39: CEN | H39: 512431291 | I39: =IF(E39="H",IF(F39<15.5,"H1",IF(F39<24.5,"H2","H3")),IF(E39="F",IF(F39<24.5,"F1","F2"),"")) -> H2
A40: DA COSTA | B40: Daniel | C40: =A40&" "&B40 -> DA COSTA Daniel | D40: S | E40: H | F40: 22.6 | G40: CEIDF | H40: 3545300 | I40: =IF(E40="H",IF(F40<15.5,"H1",IF(F40<24.5,"H2","H3")),IF(E40="F",IF(F40<24.5,"F1","F2"),"")) -> H2
...

Sheet Résultats à éditer
A1: Prix indiv
B2: Serie | C2: B | D2: N
A3: Dames | B3: 1 | C3: 2 | D3: 1
A4: Dames | B4: 2 | C4: 1 | D4: 2
A5: Hommes | B5: 1 | C5: 3 | D5: 1
A6: Hommes | B6: 2 | C6: 2 | D6: 2
A7: Hommes | B7: 3 | C7: 1 | D7: 3
A9: Prix équipe
A10: Sexe | B10: Série | C10: BRUT (nb prix) | D10: NET (nb prix) | E10: Nb de Trophée
A11: Dames | B11: tous | C11: 1 | D11: 1 | E11: 2 | F11: 1er brut et 1er net
A12: Hommes | B12: tous | C12: 1 | D12: 1 | E12: 2 | F12: 1er brut et 1er net
A13: Mixte | B13: toutes | C13: 1 | D13: 1 | E13: 2 | F13: 1er brut et 1er net
A14: Général | B14: toutes | E14: 1 | F14: un pour l'équipe
A16: Général équipe
A17: Par série | B17: nombre | C17: % nb total | D17: place 1 | E17: place 2 -50% | F17: place 3 | G17: place 4 | H17: place 5
A18: H1 | B18: 31 | C18: =B18/$B$23 -> 0.19375 | D18: 19 | E18: 10 | F18: 5 | G18: 2 | H18: 1
A19: H2 | B19: 54 | C19: =B19/$B$23 -> 0.3375 | D19: 34 | E19: 17 | F19: 8 | G19: 4 | H19: 2
A20: H3 | B20: 46 | C20: =B20/$B$23 -> 0.2875 | D20: 29 | E20: 14 | F20: 7 | G20: 4 | H20: 2
A21: F1 | B21: 8 | C21: =B21/$B$23 -> 0.05 | D21: 5 | E21: 3 | F21: 1 | G21: 1 | H21: 0
A22: F2 | B22: 21 | C22: =B22/$B$23 -> 0.13125 | D22: 13 | E22: 7 | F22: 3 | G22: 2 | H22: 1
A23: nb total | B23: 160

Sheet Feuille saisie score 
A1: Nom | B1: Prénom | C1: Joueurs | D1: Statut | E1: Sexe | F1: Index | G1: Entité | H1: Licence FFG | I1: série | J1: Brut J1 H1-F1 Courson v/n H2 Marivaux H3 Courson l/o F2 Forges | K1: NET J1 H1-F1 Courson v/n H2 Marivaux H3 Courson l/o F2 Forges | L1: Brut J2 H1-F1 Marivaux H2 Courson v/n H3 Forges F2 Courson l/o | M1: Net J2 H1-F1 Marivaux H2 Courson v/n H3 Forges F2 Courson l/o
A2: ADAM | B2: HUBERT | C2: =A2&" "&B2 -> ADAM HUBERT | D2: S | E2: H | F2: ='joueurs '!F2 -> 29.4 | G2: CEHDF | H2: 540498177 | I2: =IF(E2="H",IF(F2<15.5,"H1",IF(F2<24.5,"H2","H3")),IF(E2="F",IF(F2<24.5,"F1","F2"),"")) -> H3 | J2: 9 | K2: 32 | L2: 15 | M2: 39 | O2: seules les colonnes J, K, L et M sont à saisir
A3: ALAMICHEL | B3: Valérie | C3: =A3&" "&B3 -> ALAMICHEL Valérie | D3: E | E3: F | F3: ='joueurs '!F3 -> 34.1 | G3: BPCE SA | H3: 522832259 | I3: =IF(E3="H",IF(F3<15.5,"H1",IF(F3<24.5,"H2","H3")),IF(E3="F",IF(F3<24.5,"F1","F2"),"")) -> F2 | J3: 4 | K3: 29 | L3: 6 | M3: 24 | O3: saisir le brut et le net du J1 le lundi 14 septembre
A4: ALLAIN | B4: LOIC | C4: =A4&" "&B4 -> ALLAIN LOIC | D4: S | E4: H | F4: ='joueurs '!F4 -> 32.6 | G4: BPBFC | H4: 527813190 | I4: =IF(E4="H",IF(F4<15.5,"H1",IF(F4<24.5,"H2","H3")),IF(E4="F",IF(F4<24.5,"F1","F2"),"")) -> H3 | J4: 5 | K4: 28 | L4: 7 | M4: 35
A5: ANDURAND | B5: Jérôme | C5: =A5&" "&B5 -> ANDURAND Jérôme | D5: S | E5: H | F5: ='joueurs '!F5 -> 15.4 | G5: CEAPC | H5: 514507116 | I5: =IF(E5="H",IF(F5<15.5,"H1",IF(F5<24.5,"H2","H3")),IF(E5="F",IF(F5<24.5,"F1","F2"),"")) -> H1 | J5: 15 | K5: 30 | L5: 23 | M5: 37 | O5: saisir le brut et le net du J2 le mardi 15 septembre
A6: ASTIER | B6: DOMINIQUE | C6: =A6&" "&B6 -> ASTIER DOMINIQUE | D6: S | E6: H | F6: ='joueurs '!F6 -> 24.6 | G6: BPAURA | H6: 47116117 | I6: =IF(E6="H",IF(F6<15.5,"H1",IF(F6<24.5,"H2","H3")),IF(E6="F",IF(F6<24.5,"F1","F2"),"")) -> H3 | J6: 5 | K6: 19 | L6: 15 | M6: 40
A7: AUBRY | B7: MARC | C7: =A7&" "&B7 -> AUBRY MARC | D7: S | E7: H | F7: ='joueurs '!F7 -> 20.2 | G7: CELC | H7: 510880336 | I7: =IF(E7="H",IF(F7<15.5,"H1",IF(F7<24.5,"H2","H3")),IF(E7="F",IF(F7<24.5,"F1","F2"),"")) -> H2 | J7: 13 | K7: 34 | L7: 8 | M7: 28 | O7: Attention forfait
A8: AYMARD | B8: FREDERIC | C8: =A8&" "&B8 -> AYMARD FREDERIC | D8: S | E8: H | F8: ='joueurs '!F8 -> 16.5 | G8: BPOC | H8: 526237207 | I8: =IF(E8="H",IF(F8<15.5,"H1",IF(F8<24.5,"H2","H3")),IF(E8="F",IF(F8<24.5,"F1","F2"),"")) -> H2 | J8: 12 | K8: 28 | L8: 12 | M8: 26 | O8: VARCHON Christine
A9: BACHELARD | B9: Sébastien | C9: =A9&" "&B9 -> BACHELARD Sébastien | D9: S | E9: H | F9: ='joueurs '!F9 -> 9.4 | G9: BPCE IT | H9: 543699178 | I9: =IF(E9="H",IF(F9<15.5,"H1",IF(F9<24.5,"H2","H3")),IF(E9="F",IF(F9<24.5,"F1","F2"),"")) -> H1 | J9: 26 | K9: 39 | L9: 18 | M9: 28 | O9: CARRETERO Cyril | Q9: 46252
A10: BARROT | B10: MICHEL | C10: =A10&" "&B10 -> BARROT MICHEL | D10: S | E10: H | F10: ='joueurs '!F10 -> 18.5 | G10: NATIXIS | H10: 520164109 | I10: =IF(E10="H",IF(F10<15.5,"H1",IF(F10<24.5,"H2","H3")),IF(E10="F",IF(F10<24.5,"F1","F2"),"")) -> H2 | J10: 15 | K10: 30 | L10: 15 | M10: 32 | O10: TARGA Stephane | Q10: 46264
A11: BARTHELEMI | B11: Philippe | C11: =A11&" "&B11 -> BARTHELEMI Philippe | D11: S | E11: H | F11: ='joueurs '!F11 -> 43.1 | G11: CEGC | H11: 517273355 | I11: =IF(E11="H",IF(F11<15.5,"H1",IF(F11<24.5,"H2","H3")),IF(E11="F",IF(F11<24.5,"F1","F2"),"")) -> H3 | J11: 3 | K11: 15 | L11: 2 | M11: 20 | O11: NEAU Valentin | Q11: 46265
A12: BATAILLE | B12: Philippe | C12: =A12&" "&B12 -> BATAILLE Philippe | D12: S | E12: H | F12: ='joueurs '!F12 -> 19.3 | G12: CEBPL | H12: 48652194 | I12: =IF(E12="H",IF(F12<15.5,"H1",IF(F12<24.5,"H2","H3")),IF(E12="F",IF(F12<24.5,"F1","F2"),"")) -> H2 | J12: 10 | K12: 23 | L12: 19 | M12: 33 | O12: MONTOUT fabrice | Q12: 46265
A13: BAUDIN | B13: Anne | C13: =A13&" "&B13 -> BAUDIN Anne | D13: S | E13: F | F13: ='joueurs '!F13 -> 11.2 | G13: CEIDF | H13: O45 762 186 | I13: =IF(E13="H",IF(F13<15.5,"H1",IF(F13<24.5,"H2","H3")),IF(E13="F",IF(F13<24.5,"F1","F2"),"")) -> F1 | J13: 24 | K13: 39 | L13: 25 | M13: 39 | O13: FERRANDON Agnés | Q13: 46268 | R13: présent
A14: BAUDIN | B14: Gilles | C14: =A14&" "&B14 -> BAUDIN Gilles | D14: E | E14: H | F14: ='joueurs '!F14 -> 15.6 | G14: CEIDF | H14: 543819163 | I14: =IF(E14="H",IF(F14<15.5,"H1",IF(F14<24.5,"H2","H3")),IF(E14="F",IF(F14<24.5,"F1","F2"),"")) -> H2 | J14: 17 | K14: 30 | L14: 13 | M14: 28 | O14: SIMONIN Marie-Claire | Q14: 46272
A15: BEAUDOUIN | B15: ROMAIN | C15: =A15&" "&B15 -> BEAUDOUIN ROMAIN | D15: S | E15: H | F15: ='joueurs '!F15 -> 17.5 | G15: NATIXIS | H15: 542293250 | I15: =IF(E15="H",IF(F15<15.5,"H1",IF(F15<24.5,"H2","H3")),IF(E15="F",IF(F15<24.5,"F1","F2"),"")) -> H2 | J15: 14 | K15: 30 | L15: 12 | M15: 29 | O15: SIMONIN Patrick | Q15: 46272
A16: BENASSI | B16: Thibaud | C16: =A16&" "&B16 -> BENASSI Thibaud | D16: E | E16: H | F16: ='joueurs '!F16 -> 46 | G16: sponsor | H16: 510707363 | I16: =IF(E16="H",IF(F16<15.5,"H1",IF(F16<24.5,"H2","H3")),IF(E16="F",IF(F16<24.5,"F1","F2"),"")) -> H3 | J16: 1 | K16: 12 | L16: 5 | M16: 35 | O16: CHIFFARD Yves | Q16: 46272
A17: BENOIT | B17: Christine | C17: =A17&" "&B17 -> BENOIT Christine | D17: S | E17: F | F17: ='joueurs '!F17 -> 40 | G17: CEGEE | H17: 522770334 | I17: =IF(E17="H",IF(F17<15.5,"H1",IF(F17<24.5,"H2","H3")),IF(E17="F",IF(F17<24.5,"F1","F2"),"")) -> F2 | J17: 8 | K17: 38 | L17: 7 | M17: 30 | O17: SOUBIRON Béatrice | Q17: 46273
A18: BERTON | B18: Nicolas | C18: =A18&" "&B18 -> BERTON Nicolas | D18: S | E18: H | F18: ='joueurs '!F18 -> 11.4 | G18: BPALC | H18: 539465204 | I18: =IF(E18="H",IF(F18<15.5,"H1",IF(F18<24.5,"H2","H3")),IF(E18="F",IF(F18<24.5,"F1","F2"),"")) -> H1 | J18: 21 | K18: 31 | L18: 9 | M18: 19 | O18: LESIEUR Anne-Valérie | Q18: 46273
A19: BEUVELOT | B19: Gaël | C19: =A19&" "&B19 -> BEUVELOT Gaël | D19: S | E19: H | F19: ='joueurs '!F19 -> 11.9 | G19: CEAPC | H19: 533283215 | I19: =IF(E19="H",IF(F19<15.5,"H1",IF(F19<24.5,"H2","H3")),IF(E19="F",IF(F19<24.5,"F1","F2"),"")) -> H1 | J19: 10 | K19: 19 | L19: 7 | M19: 16 | O19: LESIEUR Philippe | Q19: 46273
A20: BOUDON | B20: PIERRE | C20: =A20&" "&B20 -> BOUDON PIERRE | D20: S | E20: H | F20: ='joueurs '!F20 -> 13 | G20: NATIXIS | H20: 43937161 | I20: =IF(E20="H",IF(F20<15.5,"H1",IF(F20<24.5,"H2","H3")),IF(E20="F",IF(F20<24.5,"F1","F2"),"")) -> H1 | J20: 17 | K20: 29 | L20: 18 | M20: 29 | O20: ADOLPHE Denis | Q20: 46275
A21: BOULDOIRES | B21: Bertrand | C21: =A21&" "&B21 -> BOULDOIRES Bertrand | D21: S | E21: H | F21: ='joueurs '!F21 -> 7 | G21: CEAPC | H21: 52 541 21 26 | I21: =IF(E21="H",IF(F21<15.5,"H1",IF(F21<24.5,"H2","H3")),IF(E21="F",IF(F21<24.5,"F1","F2"),"")) -> H1 | J21: 13 | K21: 21 | L21: 6 | M21: 11 | O21: LACROUTS Pierre | Q21: 46275
A22: BOURSIER | B22: ANTHONY | C22: =A22&" "&B22 -> BOURSIER ANTHONY | D22: S | E22: H | F22: ='joueurs '!F22 -> 21.2 | G22: CELC | H22: 547840202 | I22: =IF(E22="H",IF(F22<15.5,"H1",IF(F22<24.5,"H2","H3")),IF(E22="F",IF(F22<24.5,"F1","F2"),"")) -> H2 | J22: 14 | K22: 30 | L22: 7 | M22: 22 | O22: LECOINTRE Richard | Q22: 46275
A23: BOUSSELET | B23: Bertrand | C23: =A23&" "&B23 -> BOUSSELET Bertrand | D23: S | E23: H | F23: ='joueurs '!F23 -> 15.5 | G23: CEIDF | H23: 3837290 | I23: =IF(E23="H",IF(F23<15.5,"H1",IF(F23<24.5,"H2","H3")),IF(E23="F",IF(F23<24.5,"F1","F2"),"")) -> H2 | J23: 8 | K23: 20 | L23: 15 | M23: 31
A24: BRIGNON | B24: MICHEL | C24: =A24&" "&B24 -> BRIGNON MICHEL | D24: S | E24: H | F24: ='joueurs '!F24 -> 20.4 | G24: CELC | H24: 515715265 | I24: =IF(E24="H",IF(F24<15.5,"H1",IF(F24<24.5,"H2","H3")),IF(E24="F",IF(F24<24.5,"F1","F2"),"")) -> H2 | J24: 11 | K24: 24 | L24: 12 | M24: 30
A25: BRKIC | B25: Alexandre | C25: =A25&" "&B25 -> BRKIC Alexandre | D25: S | E25: H | F25: ='joueurs '!F25 -> 19 | G25: CEIDF | H25: 48647147 | I25: =IF(E25="H",IF(F25<15.5,"H1",IF(F25<24.5,"H2","H3")),IF(E25="F",IF(F25<24.5,"F1","F2"),"")) -> H2 | J25: 18 | K25: 34 | L25: 12 | M25: 26
A26: BURSON | B26: Didier | C26: =A26&" "&B26 -> BURSON Didier | D26: S | E26: H | F26: ='joueurs '!F26 -> 41.6 | G26: CEBFC | H26: 546096359 | I26: =IF(E26="H",IF(F26<15.5,"H1",IF(F26<24.5,"H2","H3")),IF(E26="F",IF(F26<24.5,"F1","F2"),"")) -> H3 | J26: 2 | K26: 18 | L26: 6 | M26: 34
A27: CAILLAT | B27: Pierre Yves | C27: =A27&" "&B27 -> CAILLAT Pierre Yves | D27: S | E27: H | F27: ='joueurs '!F27 -> 24.3 | G27: PALATINE | H27: 217085 | I27: =IF(E27="H",IF(F27<15.5,"H1",IF(F27<24.5,"H2","H3")),IF(E27="F",IF(F27<24.5,"F1","F2"),"")) -> H2 | J27: 12 | K27: 30 | L27: 12 | M27: 30
A28: CHAMOUTON | B28: Patrick | C28: =A28&" "&B28 -> CHAMOUTON Patrick | D28: S | E28: H | F28: ='joueurs '!F28 -> 37 | G28: CEBFC | H28: 533662190 | I28: =IF(E28="H",IF(F28<15.5,"H1",IF(F28<24.5,"H2","H3")),IF(E28="F",IF(F28<24.5,"F1","F2"),"")) -> H3 | J28: 11 | K28: 41 | L28: 7 | M28: 40
A29: CHENOUNA | B29: Rachel | C29: =A29&" "&B29 -> CHENOUNA Rachel | D29: S | E29: F | F29: ='joueurs '!F29 -> 40.4 | G29: CEIDF | H29: 42104315 | I29: =IF(E29="H",IF(F29<15.5,"H1",IF(F29<24.5,"H2","H3")),IF(E29="F",IF(F29<24.5,"F1","F2"),"")) -> F2 | J29: 4 | K29: 27 | L29: 5 | M29: 22
A30: CHENOUNA | B30: Djilali | C30: =A30&" "&B30 -> CHENOUNA Djilali | D30: E | E30: H | F30: ='joueurs '!F30 -> 21.4 | G30: CEIDF | H30: 42075243 | I30: =IF(E30="H",IF(F30<15.5,"H1",IF(F30<24.5,"H2","H3")),IF(E30="F",IF(F30<24.5,"F1","F2"),"")) -> H2 | J30: 10 | K30: 24 | L30: 14 | M30: 33
A31: CHUSSEAU | B31: Cedric | C31: =A31&" "&B31 -> CHUSSEAU Cedric | D31: S | E31: H | F31: ='joueurs '!F31 -> 21.6 | G31: CEIDF | H31: 42078247 | I31: =IF(E31="H",IF(F31<15.5,"H1",IF(F31<24.5,"H2","H3")),IF(E31="F",IF(F31<24.5,"F1","F2"),"")) -> H2 | J31: 13 | K31: 31 | L31: 13 | M31: 31
A32: CIRENI | B32: Maria-Grazia | C32: =A32&" "&B32 -> CIRENI Maria-Grazia | D32: E | E32: F | F32: ='joueurs '!F32 -> 38 | G32: CEIDF | H32: 41775191 | I32: =IF(E32="H",IF(F32<15.5,"H1",IF(F32<24.5,"H2","H3")),IF(E32="F",IF(F32<24.5,"F1","F2"),"")) -> F2 | J32: 10 | K32: 37 | L32: 5 | M32: 35
A33: COLL | B33: Marlène | C33: =A33&" "&B33 -> COLL Marlène | D33: S | E33: F | F33: ='joueurs '!F33 -> 35.7 | G33: CEAPC | H33: 41992290 | I33: =IF(E33="H",IF(F33<15.5,"H1",IF(F33<24.5,"H2","H3")),IF(E33="F",IF(F33<24.5,"F1","F2"),"")) -> F2 | J33: 4 | K33: 27 | L33: 5 | M33: 21
A34: CORDIER | B34: Matthieu | C34: =A34&" "&B34 -> CORDIER Matthieu | D34: S | E34: H | F34: ='joueurs '!F34 -> 3.2 | G34: PALATINE | H34: 43346122 | I34: =IF(E34="H",IF(F34<15.5,"H1",IF(F34<24.5,"H2","H3")),IF(E34="F",IF(F34<24.5,"F1","F2"),"")) -> H1 | J34: 26 | K34: 30 | L34: 22 | M34: 25
A35: CORMIER | B35: Brice | C35: =A35&" "&B35 -> CORMIER Brice | D35: S | E35: H | F35: ='joueurs '!F35 -> 20.3 | G35: BPCE SA | H35: 522833258 | I35: =IF(E35="H",IF(F35<15.5,"H1",IF(F35<24.5,"H2","H3")),IF(E35="F",IF(F35<24.5,"F1","F2"),"")) -> H2 | J35: 13 | K35: 27 | L35: 8 | M35: 23
A36: COSTA | B36: Eduardo | C36: =A36&" "&B36 -> COSTA Eduardo | D36: E | E36: H | F36: ='joueurs '!F36 -> 24.8 | G36: CEIDF | H36: 534369194 | I36: =IF(E36="H",IF(F36<15.5,"H1",IF(F36<24.5,"H2","H3")),IF(E36="F",IF(F36<24.5,"F1","F2"),"")) -> H3 | J36: 7 | K36: 22 | L36: 9 | M36: 29
... A43: decenciere | B43: olivier | C43: =A43&" "&B43 -> decenciere olivier | D43: S | E43: H | F43: ='joueurs '!F43 -> 30.7 | G43: BPCE SA | H43: 541946225 | I43: =IF(E43="H",IF(F43<15.5,"H1",IF(F43<24.5,"H2","H3")),IF(E43="F",IF(F43<24.5,"F1","F2"),"")) -> H3 | J43: 8 | K43: 32 | L43: 13 | M43: 42
A44: DECRESSAIN | B44: Amaury | C44: =A44&" "&B44 -> DECRESSAIN Amaury | D44: S | E44: H | F44: ='joueurs '!F44 -> 14.4 | G44: CEAPC | H44: 541 770 209 | I44: =IF(E44="H",IF(F44<15.5,"H1",IF(F44<24.5,"H2","H3")),IF(E44="F",IF(F44<24.5,"F1","F2"),"")) -> H1 | J44: 2 | K44: 9 | L44: 13 | M44: 25
A45: DELAHAYE | B45: OLIVIER | C45: =A45&" "&B45 -> DELAHAYE OLIVIER | D45: S | E45: H | F45: ='joueurs '!F45 -> 19.3 | G45: CEHDF | H45: 521567244 | I45: =IF(E45="H",IF(F45<15.5,"H1",IF(F45<24.5,"H2","H3")),IF(E45="F",IF(F45<24.5,"F1","F2"),"")) -> H2 | J45: 13 | K45: 32 | L45: 12 | M45: 27
A46: DELIA | B46: Eric | C46: =A46&" "&B46 -> DELIA Eric | D46: S | E46: H | F46: ='joueurs '!F46 -> 28 | G46: BPCE IT | H46: 49251375 | I46: =IF(E46="H",IF(F46<15.5,"H1",IF(F46<24.5,"H2","H3")),IF(E46="F",IF(F46<24.5,"F1","F2"),"")) -> H3 | J46: 9 | K46: 33 | L46: 13 | M46: 39
...

Sheet brut net 
C1: Résultat global challenge Golf BPCE Sports 2026 DOURDAN
A2: Nom | B2: Prénom | C2: Joueurs | D2: Statut | E2: Sexe | F2: Index | G2: Entité | H2: Licence FFG | I2: série | J2: Brut J1 H1-F1 Courson v/n H2 Marivaux H3 Courson l/o F2 Forges | K2: NET J1 H1-F1 Courson v/n H2 Marivaux H3 Courson l/o F2 Forges | L2: Brut J2 H1-F1 Marivaux H2 Courson v/n H3 Forges F2 Courson l/o | M2: Net J2 H1-F1 Marivaux H2 Courson v/n H3 Forges F2 Courson l/o
A3: ADAM | B3: HUBERT | C3: =A3&" "&B3 -> ADAM HUBERT | D3: S | E3: H | F3: ='joueurs '!F2 -> 29.4 | G3: CEHDF | H3: 540498177 | I3: =IF(E3="H",IF(F3<15.5,"H1",IF(F3<24.5,"H2","H3")),IF(E3="F",IF(F3<24.5,"F1","F2"),"")) -> H3 | J3: ='Feuille saisie score '!J2 -> 9 | K3: ='Feuille saisie score '!K2 -> 32 | L3: ='Feuille saisie score '!L2 -> 15 | M3: ='Feuille saisie score '!M2 -> 39
A4: ADOLPHE | B4: DENIS | C4: =A4&" "&B4 -> ADOLPHE DENIS | D4: S | E4: H | F4: ='joueurs '!#REF! -> #REF! | G4: CEN | H4: 515798195 | I4: =IF(E4="H",IF(F4<15.5,"H1",IF(F4<24.5,"H2","H3")),IF(E4="F",IF(F4<24.5,"F1","F2"),"")) -> #REF! | J4: ='Feuille saisie score '!#REF! -> #REF! | K4: ='Feuille saisie score '!#REF! -> #REF! | L4: ='Feuille saisie score '!#REF! -> #REF! | M4: ='Feuille saisie score '!#REF! -> #REF!
A5: ALAMICHEL | B5: Valérie | C5: =A5&" "&B5 -> ALAMICHEL Valérie | D5: E | E5: F | F5: ='joueurs '!F3 -> 34.1 | G5: BPCE SA | H5: 522832259 | I5: =IF(E5="H",IF(F5<15.5,"H1",IF(F5<24.5,"H2","H3")),IF(E5="F",IF(F5<24.5,"F1","F2"),"")) -> F2 | J5: ='Feuille saisie score '!J3 -> 4 | K5: ='Feuille saisie score '!K3 -> 29 | L5: ='Feuille saisie score '!L3 -> 6 | M5: ='Feuille saisie score '!M3 -> 24
A6: ALLAIN | B6: LOIC | C6: =A6&" "&B6 -> ALLAIN LOIC | D6: S | E6: H | F6: ='joueurs '!F4 -> 32.6 | G6: BPBFC | H6: 527813190 | I6: =IF(E6="H",IF(F6<15.5,"H1",IF(F6<24.5,"H2","H3")),IF(E6="F",IF(F6<24.5,"F1","F2"),"")) -> H3 | J6: ='Feuille saisie score '!J4 -> 5 | K6: ='Feuille saisie score '!K4 -> 28 | L6: ='Feuille saisie score '!L4 -> 7 | M6: ='Feuille saisie score '!M4 -> 35
A7: ANDURAND | B7: Jérôme | C7: =A7&" "&B7 -> ANDURAND Jérôme | D7: S | E7: H | F7: ='joueurs '!F5 -> 15.4 | G7: CEAPC | H7: 514507116 | I7: =IF(E7="H",IF(F7<15.5,"H1",IF(F7<24.5,"H2","H3")),IF(E7="F",IF(F7<24.5,"F1","F2"),"")) -> H1 | J7: ='Feuille saisie score '!J5 -> 15 | K7: ='Feuille saisie score '!K5 -> 30 | L7: ='Feuille saisie score '!L5 -> 23 | M7: ='Feuille saisie score '!M5 -> 37
A8: ASTIER | B8: DOMINIQUE | C8: =A8&" "&B8 -> ASTIER DOMINIQUE | D8: S | E8: H | F8: ='joueurs '!F6 -> 24.6 | G8: BPAURA | H8: 47116117 | I8: =IF(E8="H",IF(F8<15.5,"H1",IF(F8<24.5,"H2","H3")),IF(E8="F",IF(F8<24.5,"F1","F2"),"")) -> H3 | J8: ='Feuille saisie score '!J6 -> 5 | K8: ='Feuille saisie score '!K6 -> 19 | L8: ='Feuille saisie score '!L6 -> 15 | M8: ='Feuille saisie score '!M6 -> 40
A9: AUBRY | B9: MARC | C9: =A9&" "&B9 -> AUBRY MARC | D9: S | E9: H | F9: ='joueurs '!F7 -> 20.2 | G9: CELC | H9: 510880336 | I9: =IF(E9="H",IF(F9<15.5,"H1",IF(F9<24.5,"H2","H3")),IF(E9="F",IF(F9<24.5,"F1","F2"),"")) -> H2 | J9: ='Feuille saisie score '!J7 -> 13 | K9: ='Feuille saisie score '!K7 -> 34 | L9: ='Feuille saisie score '!L7 -> 8 | M9: ='Feuille saisie score '!M7 -> 28
A10: AYMARD | B10: FREDERIC | C10: =A10&" "&B10 -> AYMARD FREDERIC | D10: S | E10: H | F10: ='joueurs '!F8 -> 16.5 | G10: BPOC | H10: 526237207 | I10: =IF(E10="H",IF(F10<15.5,"H1",IF(F10<24.5,"H2","H3")),IF(E10="F",IF(F10<24.5,"F1","F2"),"")) -> H2 | J10: ='Feuille saisie score '!J8 -> 12 | K10: ='Feuille saisie score '!K8 -> 28 | L10: ='Feuille saisie score '!L8 -> 12 | M10: ='Feuille saisie score '!M8 -> 26
A11: BACHELARD | B11: Sébastien | C11: =A11&" "&B11 -> BACHELARD Sébastien | D11: S | E11: H | F11: ='joueurs '!F9 -> 9.4 | G11: BPCE IT | H11: 543699178 | I11: =IF(E11="H",IF(F11<15.5,"H1",IF(F11<24.5,"H2","H3")),IF(E11="F",IF(F11<24.5,"F1","F2"),"")) -> H1 | J11: ='Feuille saisie score '!J9 -> 26 | K11: ='Feuille saisie score '!K9 -> 39 | L11: ='Feuille saisie score '!L9 -> 18 | M11: ='Feuille saisie score '!M9 -> 28
A12: BARROT | B12: MICHEL | C12: =A12&" "&B12 -> BARROT MICHEL | D12: S | E12: H | F12: ='joueurs '!F10 -> 18.5 | G12: NATIXIS | H12: 520164109 | I12: =IF(E12="H",IF(F12<15.5,"H1",IF(F12<24.5,"H2","H3")),IF(E12="F",IF(F12<24.5,"F1","F2"),"")) -> H2 | J12: ='Feuille saisie score '!J10 -> 15 | K12: ='Feuille saisie score '!K10 -> 30 | L12: ='Feuille saisie score '!L10 -> 15 | M12: ='Feuille saisie score '!M10 -> 32
A13: BARTHELEMI | B13: Philippe | C13: =A13&" "&B13 -> BARTHELEMI Philippe | D13: S | E13: H | F13: ='joueurs '!F11 -> 43.1 | G13: CEGC | H13: 517273355 | I13: =IF(E13="H",IF(F13<15.5,"H1",IF(F13<24.5,"H2","H3")),IF(E13="F",IF(F13<24.5,"F1","F2"),"")) -> H3 | J13: ='Feuille saisie score '!J11 -> 3 | K13: ='Feuille saisie score '!K11 -> 15 | L13: ='Feuille saisie score '!L11 -> 2 | M13: ='Feuille saisie score '!M11 -> 20
A14: BATAILLE | B14: Philippe | C14: =A14&" "&B14 -> BATAILLE Philippe | D14: S | E14: H | F14: ='joueurs '!F12 -> 19.3 | G14: CEBPL | H14: 48652194 | I14: =IF(E14="H",IF(F14<15.5,"H1",IF(F14<24.5,"H2","H3")),IF(E14="F",IF(F14<24.5,"F1","F2"),"")) -> H2 | J14: ='Feuille saisie score '!J12 -> 10 | K14: ='Feuille saisie score '!K12 -> 23 | L14: ='Feuille saisie score '!L12 -> 19 | M14: ='Feuille saisie score '!M12 -> 33
A15: BAUDIN | B15: Anne | C15: =A15&" "&B15 -> BAUDIN Anne | D15: S | E15: F | F15: ='joueurs '!F13 -> 11.2 | G15: CEIDF | H15: O45 762 186 | I15: =IF(E15="H",IF(F15<15.5,"H1",IF(F15<24.5,"H2","H3")),IF(E15="F",IF(F15<24.5,"F1","F2"),"")) -> F1 | J15: ='Feuille saisie score '!J13 -> 24 | K15: ='Feuille saisie score '!K13 -> 39 | L15: ='Feuille saisie score '!L13 -> 25 | M15: ='Feuille saisie score '!M13 -> 39
A16: BAUDIN | B16: Gilles | C16: =A16&" "&B16 -> BAUDIN Gilles | D16: E | E16: H | F16: ='joueurs '!F14 -> 15.6 | G16: CEIDF | H16: 543819163 | I16: =IF(E16="H",IF(F16<15.5,"H1",IF(F16<24.5,"H2","H3")),IF(E16="F",IF(F16<24.5,"F1","F2"),"")) -> H2 | J16: ='Feuille saisie score '!J14 -> 17 | K16: ='Feuille saisie score '!K14 -> 30 | L16: ='Feuille saisie score '!L14 -> 13 | M16: ='Feuille saisie score '!M14 -> 28
A17: BEAUDOUIN | B17: ROMAIN | C17: =A17&" "&B17 -> BEAUDOUIN ROMAIN | D17: S | E17: H | F17: ='joueurs '!F15 -> 17.5 | G17: NATIXIS | H17: 542293250 | I17: =IF(E17="H",IF(F17<15.5,"H1",IF(F17<24.5,"H2","H3")),IF(E17="F",IF(F17<24.5,"F1","F2"),"")) -> H2 | J17: ='Feuille saisie score '!J15 -> 14 | K17: ='Feuille saisie score '!K15 -> 30 | L17: ='Feuille saisie score '!L15 -> 12 | M17: ='Feuille saisie score '!M15 -> 29
A18: BENASSI | B18: Thibaud | C18: =A18&" "&B18 -> BENASSI Thibaud | D18: E | E18: H | F18: ='joueurs '!F16 -> 46 | G18: sponsor | H18: 510707363 | I18: =IF(E18="H",IF(F18<15.5,"H1",IF(F18<24.5,"H2","H3")),IF(E18="F",IF(F18<24.5,"F1","F2"),"")) -> H3 | J18: ='Feuille saisie score '!J16 -> 1 | K18: ='Feuille saisie score '!K16 -> 12 | L18: ='Feuille saisie score '!L16 -> 5 | M18: ='Feuille saisie score '!M16 -> 35
A19: BENOIT | B19: Christine | C19: =A19&" "&B19 -> BENOIT Christine | D19: S | E19: F | F19: ='joueurs '!F17 -> 40 | G19: CEGEE | H19: 522770334 | I19: =IF(E19="H",IF(F19<15.5,"H1",IF(F19<24.5,"H2","H3")),IF(E19="F",IF(F19<24.5,"F1","F2"),"")) -> F2 | J19: ='Feuille saisie score '!J17 -> 8 | K19: ='Feuille saisie score '!K17 -> 38 | L19: ='Feuille saisie score '!L17 -> 7 | M19: ='Feuille saisie score '!M17 -> 30
A20: BERTON | B20: Nicolas | C20: =A20&" "&B20 -> BERTON Nicolas | D20: S | E20: H | F20: ='joueurs '!F18 -> 11.4 | G20: BPALC | H20: 539465204 | I20: =IF(E20="H",IF(F20<15.5,"H1",IF(F20<24.5,"H2","H3")),IF(E20="F",IF(F20<24.5,"F1","F2"),"")) -> H1 | J20: ='Feuille saisie score '!J18 -> 21 | K20: ='Feuille saisie score '!K18 -> 31 | L20: ='Feuille saisie score '!L18 -> 9 | M20: ='Feuille saisie score '!M18 -> 19
A21: BEUVELOT | B21: Gaël | C21: =A21&" "&B21 -> BEUVELOT Gaël | D21: S | E21: H | F21: ='joueurs '!F19 -> 11.9 | G21: CEAPC | H21: 533283215 | I21: =IF(E21="H",IF(F21<15.5,"H1",IF(F21<24.5,"H2","H3")),IF(E21="F",IF(F21<24.5,"F1","F2"),"")) -> H1 | J21: ='Feuille saisie score '!J19 -> 10 | K21: ='Feuille saisie score '!K19 -> 19 | L21: ='Feuille saisie score '!L19 -> 7 | M21: ='Feuille saisie score '!M19 -> 16
A22: BOUDON | B22: PIERRE | C22: =A22&" "&B22 -> BOUDON PIERRE | D22: S | E22: H | F22: ='joueurs '!F20 -> 13 | G22: NATIXIS | H22: 43937161 | I22: =IF(E22="H",IF(F22<15.5,"H1",IF(F22<24.5,"H2","H3")),IF(E22="F",IF(F22<24.5,"F1","F2"),"")) -> H1 | J22: ='Feuille saisie score '!J20 -> 17 | K22: ='Feuille saisie score '!K20 -> 29 | L22: ='Feuille saisie score '!L20 -> 18 | M22: ='Feuille saisie score '!M20 -> 29
A23: BOULDOIRES | B23: Bertrand | C23: =A23&" "&B23 -> BOULDOIRES Bertrand | D23: S | E23: H | F23: ='joueurs '!F21 -> 7 | G23: CEAPC | H23: 52 541 21 26 | I23: =IF(E23="H",IF(F23<15.5,"H1",IF(F23<24.5,"H2","H3")),IF(E23="F",IF(F23<24.5,"F1","F2"),"")) -> H1 | J23: ='Feuille saisie score '!J21 -> 13 | K23: ='Feuille saisie score '!K21 -> 21 | L23: ='Feuille saisie score '!L21 -> 6 | M23: ='Feuille saisie score '!M21 -> 11
A24: BOURSIER | B24: ANTHONY | C24: =A24&" "&B24 -> BOURSIER ANTHONY | D24: S | E24: H | F24: ='joueurs '!F22 -> 21.2 | G24: CELC | H24: 547840202 | I24: =IF(E24="H",IF(F24<15.5,"H1",IF(F24<24.5,"H2","H3")),IF(E24="F",IF(F24<24.5,"F1","F2"),"")) -> H2 | J24: ='Feuille saisie score '!J22 -> 14 | K24: ='Feuille saisie score '!K22 -> 30 | L24: ='Feuille saisie score '!L22 -> 7 | M24: ='Feuille saisie score '!M22 -> 22
A25: BOUSSELET | B25: Bertrand | C25: =A25&" "&B25 -> BOUSSELET Bertrand | D25: S | E25: H | F25: ='joueurs '!F23 -> 15.5 | G25: CEIDF | H25: 3837290 | I25: =IF(E25="H",IF(F25<15.5,"H1",IF(F25<24.5,"H2","H3")),IF(E25="F",IF(F25<24.5,"F1","F2"),"")) -> H2 | J25: ='Feuille saisie score '!J23 -> 8 | K25: ='Feuille saisie score '!K23 -> 20 | L25: ='Feuille saisie score '!L23 -> 15 | M25: ='Feuille saisie score '!M23 -> 31
A26: BRIGNON | B26: MICHEL | C26: =A26&" "&B26 -> BRIGNON MICHEL | D26: S | E26: H | F26: ='joueurs '!F24 -> 20.4 | G26: CELC | H26: 515715265 | I26: =IF(E26="H",IF(F26<15.5,"H1",IF(F26<24.5,"H2","H3")),IF(E26="F",IF(F26<24.5,"F1","F2"),"")) -> H2 | J26: ='Feuille saisie score '!J24 -> 11 | K26: ='Feuille saisie score '!K24 -> 24 | L26: ='Feuille saisie score '!L24 -> 12 | M26: ='Feuille saisie score '!M24 -> 30
A27: BRKIC | B27: Alexandre | C27: =A27&" "&B27 -> BRKIC Alexandre | D27: S | E27: H | F27: ='joueurs '!F25 -> 19 | G27: CEIDF | H27: 48647147 | I27: =IF(E27="H",IF(F27<15.5,"H1",IF(F27<24.5,"H2","H3")),IF(E27="F",IF(F27<24.5,"F1","F2"),"")) -> H2 | J27: ='Feuille saisie score '!J25 -> 18 | K27: ='Feuille saisie score '!K25 -> 34 | L27: ='Feuille saisie score '!L25 -> 12 | M27: ='Feuille saisie score '!M25 -> 26
A28: BURSON | B28: Didier | C28: =A28&" "&B28 -> BURSON Didier | D28: S | E28: H | F28: ='joueurs '!F26 -> 41.6 | G28: CEBFC | H28: 546096359 | I28: =IF(E28="H",IF(F28<15.5,"H1",IF(F28<24.5,"H2","H3")),IF(E28="F",IF(F28<24.5,"F1","F2"),"")) -> H3 | J28: ='Feuille saisie score '!J26 -> 2 | K28: ='Feuille saisie score '!K26 -> 18 | L28: ='Feuille saisie score '!L26 -> 6 | M28: ='Feuille saisie score '!M26 -> 34
A29: CAILLAT | B29: Pierre Yves | C29: =A29&" "&B29 -> CAILLAT Pierre Yves | D29: S | E29: H | F29: ='joueurs '!F27 -> 24.3 | G29: PALATINE | H29: 217085 | I29: =IF(E29="H",IF(F29<15.5,"H1",IF(F29<24.5,"H2","H3")),IF(E29="F",IF(F29<24.5,"F1","F2"),"")) -> H2 | J29: ='Feuille saisie score '!J27 -> 12 | K29: ='Feuille saisie score '!K27 -> 30 | L29: ='Feuille saisie score '!L27 -> 12 | M29: ='Feuille saisie score '!M27 -> 30
A30: CARRETERO | B30: CYRIL | C30: =A30&" "&B30 -> CARRETERO CYRIL | D30: S | E30: H | F30: ='joueurs '!#REF! -> #REF! | G30: BPAURA | H30: 49097216 | I30: =IF(E30="H",IF(F30<15.5,"H1",IF(F30<24.5,"H2","H3")),IF(E30="F",IF(F30<24.5,"F1","F2"),"")) -> #REF! | J30: ='Feuille saisie score '!#REF! -> #REF! | K30: ='Feuille saisie score '!#REF! -> #REF! | L30: ='Feuille saisie score '!#REF! -> #REF! | M30: ='Feuille saisie score '!#REF! -> #REF!
A31: CHAMOUTON | B31: Patrick | C31: =A31&" "&B31 -> CHAMOUTON Patrick | D31: S | E31: H | F31: ='joueurs '!F28 -> 37 | G31: CEBFC | H31: 533662190 | I31: =IF(E31="H",IF(F31<15.5,"H1",IF(F31<24.5,"H2","H3")),IF(E31="F",IF(F31<24.5,"F1","F2"),"")) -> H3 | J31: ='Feuille saisie score '!J28 -> 11 | K31: ='Feuille saisie score '!K28 -> 41 | L31: ='Feuille saisie score '!L28 -> 7 | M31: ='Feuille saisie score '!M28 -> 40
A32: CHENOUNA | B32: Rachel | C32: =A32&" "&B32 -> CHENOUNA Rachel | D32: S | E32: F | F32: ='joueurs '!F29 -> 40.4 | G32: CEIDF | H32: 42104315 | I32: =IF(E32="H",IF(F32<15.5,"H1",IF(F32<24.5,"H2","H3")),IF(E32="F",IF(F32<24.5,"F1","F2"),"")) -> F2 | J32: ='Feuille saisie score '!J29 -> 4 | K32: ='Feuille saisie score '!K29 -> 27 | L32: ='Feuille saisie score '!L29 -> 5 | M32: ='Feuille saisie score '!M29 -> 22
A33: CHENOUNA | B33: Djilali | C33: =A33&" "&B33 -> CHENOUNA Djilali | D33: E | E33: H | F33: ='joueurs '!F30 -> 21.4 | G33: CEIDF | H33: 42075243 | I33: =IF(E33="H",IF(F33<15.5,"H1",IF(F33<24.5,"H2","H3")),IF(E33="F",IF(F33<24.5,"F1","F2"),"")) -> H2 | J33: ='Feuille saisie score '!J30 -> 10 | K33: ='Feuille saisie score '!K30 -> 24 | L33: ='Feuille saisie score '!L30 -> 14 | M33: ='Feuille saisie score '!M30 -> 33
A34: CHIFFARD | B34: YVES | C34: =A34&" "&B34 -> CHIFFARD YVES | D34: E | E34: H | F34: ='joueurs '!#REF! -> #REF! | G34: CEN | H34: 530666192 | I34: =IF(E34="H",IF(F34<15.5,"H1",IF(F34<24.5,"H2","H3")),IF(E34="F",IF(F34<24.5,"F1","F2"),"")) -> #REF! | J34: ='Feuille saisie score '!#REF! -> #REF! | K34: ='Feuille saisie score '!#REF! -> #REF! | L34: ='Feuille saisie score '!#REF! -> #REF! | M34: ='Feuille saisie score '!#REF! -> #REF!
A35: CHUSSEAU | B35: Cedric | C35: =A35&" "&B35 -> CHUSSEAU Cedric | D35: S | E35: H | F35: ='joueurs '!F31 -> 21.6 | G35: CEIDF | H35: 42078247 | I35: =IF(E35="H",IF(F35<15.5,"H1",IF(F35<24.5,"H2","H3")),IF(E35="F",IF(F35<24.5,"F1","F2"),"")) -> H2 | J35: ='Feuille saisie score '!J31 -> 13 | K35: ='Feuille saisie score '!K31 -> 31 | L35: ='Feuille saisie score '!L31 -> 13 | M35: ='Feuille saisie score '!M31 -> 31
A36: CIRENI | B36: Maria-Grazia | C36: =A36&" "&B36 -> CIRENI Maria-Grazia | D36: E | E36: F | F36: ='joueurs '!F32 -> 38 | G36: CEIDF | H36: 41775191 | I36: =IF(E36="H",IF(F36<15.5,"H1",IF(F36<24.5,"H2","H3")),IF(E36="F",IF(F36<24.5,"F1","F2"),"")) -> F2 | J36: ='Feuille saisie score '!J32 -> 10 | K36: ='Feuille saisie score '!K32 -> 37 | L36: ='Feuille saisie score '!L32 -> 5 | M36: ='Feuille saisie score '!M32 -> 35
A37: COLL | B37: Marlène | C37: =A37&" "&B37 -> COLL Marlène | D37: S | E37: F | F37: ='joueurs '!F33 -> 35.7 | G37: CEAPC | H37: 41992290 | I37: =IF(E37="H",IF(F37<15.5,"H1",IF(F37<24.5,"H2","H3")),IF(E37="F",IF(F37<24.5,"F1","F2"),"")) -> F2 | J37: ='Feuille saisie score '!J33 -> 4 | K37: ='Feuille saisie score '!K33 -> 27 | L37: ='Feuille saisie score '!L33 -> 5 | M37: ='Feuille saisie score '!M33 -> 21
A38: CORDIER | B38: Matthieu | C38: =A38&" "&B38 -> CORDIER Matthieu | D38: S | E38: H | F38: ='joueurs '!F34 -> 3.2 | G38: PALATINE | H38: 43346122 | I38: =IF(E38="H",IF(F38<15.5,"H1",IF(F38<24.5,"H2","H3")),IF(E38="F",IF(F38<24.5,"F1","F2"),"")) -> H1 | J38: ='Feuille saisie score '!J34 -> 26 | K38: ='Feuille saisie score '!K34 -> 30 | L38: ='Feuille saisie score '!L34 -> 22 | M38: ='Feuille saisie score '!M34 -> 25
A39: CORMIER | B39: Brice | C39: =A39&" "&B39 -> CORMIER Brice | D39: S | E39: H | F39: ='joueurs '!F35 -> 20.3 | G39: BPCE SA | H39: 522833258 | I39: =IF(E39="H",IF(F39<15.5,"H1",IF(F39<24.5,"H2","H3")),IF(E39="F",IF(F39<24.5,"F1","F2"),"")) -> H2 | J39: ='Feuille saisie score '!J35 -> 13 | K39: ='Feuille saisie score '!K35 -> 27 | L39: ='Feuille saisie score '!L35 -> 8 | M39: ='Feuille saisie score '!M35 -> 23
A40: COSTA | B40: Eduardo | C40: =A40&" "&B40 -> COSTA Eduardo | D40: E | E40: H | F40: ='joueurs '!F36 -> 24.8 | G40: CEIDF | H40: 534369194 | I40: =IF(E40="H",IF(F40<15.5,"H1",IF(F40<24.5,"H2","H3")),IF(E40="F",IF(F40<24.5,"F1","F2"),"")) -> H3 | J40: ='Feuille saisie score '!J36 -> 7 | K40: ='Feuille saisie score '!K36 -> 22 | L40: ='Feuille saisie score '!L36 -> 9 | M40: ='Feuille saisie score '!M36 -> 29
...

Sheet brut F1
C1: challenge golf BPCE Sports 2026 classement Femme série 1 | J1: BRUT | L1: F1
A2: Nom | B2: Prénom | C2: Joueurs | D2: Statut | E2: Sexe | F2: Index | G2: Entité | H2: Licence FFG | I2: série | J2: Brut J1 H1-F1 Courson v/n H2 Marivaux H3 Courson l/o F2 Forges | K2: NET J1 H1-F1 Courson v/n H2 Marivaux H3 Courson l/o F2 Forges | L2: Brut J2 H1-F1 Marivaux H2 Courson v/n H3 Forges F2 Courson l/o | M2: Net J2 H1-F1 Marivaux H2 Courson v/n H3 Forges F2 Courson l/o | N2: TOTAL BRUT
A3: ADAM | B3: HUBERT | C3: =A3&" "&B3 -> ADAM HUBERT | D3: S | E3: H | F3: ='joueurs '!F2 -> 29.4 | G3: CEHDF | H3: 540498177 | I3: =IF(E3="H",IF(F3<15.5,"H1",IF(F3<24.5,"H2","H3")),IF(E3="F",IF(F3<24.5,"F1","F2"),"")) -> H3 | J3: ='Feuille saisie score '!J2 -> 9 | K3: ='Feuille saisie score '!K2 -> 32 | L3: ='Feuille saisie score '!L2 -> 15 | M3: ='Feuille saisie score '!M2 -> 39 | N3: =J3+L3 -> 24
A4: ALAMICHEL | B4: Valérie | C4: =A4&" "&B4 -> ALAMICHEL Valérie | D4: E | E4: F | F4: ='joueurs '!F3 -> 34.1 | G4: BPCE SA | H4: 522832259 | I4: =IF(E4="H",IF(F4<15.5,"H1",IF(F4<24.5,"H2","H3")),IF(E4="F",IF(F4<24.5,"F1","F2"),"")) -> F2 | J4: ='Feuille saisie score '!J3 -> 4 | K4: ='Feuille saisie score '!K3 -> 29 | L4: ='Feuille saisie score '!L3 -> 6 | M4: ='Feuille saisie score '!M3 -> 24 | N4: =J4+L4 -> 10
A5: ALLAIN | B5: LOIC | C5: =A5&" "&B5 -> ALLAIN LOIC | D5: S | E5: H | F5: ='joueurs '!F4 -> 32.6 | G5: BPBFC | H5: 527813190 | I5: =IF(E5="H",IF(F5<15.5,"H1",IF(F5<24.5,"H2","H3")),IF(E5="F",IF(F5<24.5,"F1","F2"),"")) -> H3 | J5: ='Feuille saisie score '!J4 -> 5 | K5: ='Feuille saisie score '!K4 -> 28 | L5: ='Feuille saisie score '!L4 -> 7 | M5: ='Feuille saisie score '!M4 -> 35 | N5: =J5+L5 -> 12
A6: ANDURAND | B6: Jérôme | C6: =A6&" "&B6 -> ANDURAND Jérôme | D6: S | E6: H | F6: ='joueurs '!F5 -> 15.4 | G6: CEAPC | H6: 514507116 | I6: =IF(E6="H",IF(F6<15.5,"H1",IF(F6<24.5,"H2","H3")),IF(E6="F",IF(F6<24.5,"F1","F2"),"")) -> H1 | J6: ='Feuille saisie score '!J5 -> 15 | K6: ='Feuille saisie score '!K5 -> 30 | L6: ='Feuille saisie score '!L5 -> 23 | M6: ='Feuille saisie score '!M5 -> 37 | N6: =J6+L6 -> 38
A7: ASTIER | B7: DOMINIQUE | C7: =A7&" "&B7 -> ASTIER DOMINIQUE | D7: S | E7: H | F7: ='joueurs '!F6 -> 24.6 | G7: BPAURA | H7: 47116117 | I7: =IF(E7="H",IF(F7<15.5,"H1",IF(F7<24.5,"H2","H3")),IF(E7="F",IF(F7<24.5,"F1","F2"),"")) -> H3 | J7: ='Feuille saisie score '!J6 -> 5 | K7: ='Feuille saisie score '!K6 -> 19 | L7: ='Feuille saisie score '!L6 -> 15 | M7: ='Feuille saisie score '!M6 -> 40 | N7: =J7+L7 -> 20
A8: AUBRY | B8: MARC | C8: =A8&" "&B8 -> AUBRY MARC | D8: S | E8: H | F8: ='joueurs '!F7 -> 20.2 | G8: CELC | H8: 510880336 | I8: =IF(E8="H",IF(F8<15.5,"H1",IF(F8<24.5,"H2","H3")),IF(E8="F",IF(F8<24.5,"F1","F2"),"")) -> H2 | J8: ='Feuille saisie score '!J7 -> 13 | K8: ='Feuille saisie score '!K7 -> 34 | L8: ='Feuille saisie score '!L7 -> 8 | M8: ='Feuille saisie score '!M7 -> 28 | N8: =J8+L8 -> 21
A9: AYMARD | B9: FREDERIC | C9: =A9&" "&B9 -> AYMARD FREDERIC | D9: S | E9: H | F9: ='joueurs '!F8 -> 16.5 | G9: BPOC | H9: 526237207 | I9: =IF(E9="H",IF(F9<15.5,"H1",IF(F9<24.5,"H2","H3")),IF(E9="F",IF(F9<24.5,"F1","F2"),"")) -> H2 | J9: ='Feuille saisie score '!J8 -> 12 | K9: ='Feuille saisie score '!K8 -> 28 | L9: ='Feuille saisie score '!L8 -> 12 | M9: ='Feuille saisie score '!M8 -> 26 | N9: =J9+L9 -> 24
A10: BACHELARD | B10: Sébastien | C10: =A10&" "&B10 -> BACHELARD Sébastien | D10: S | E10: H | F10: ='joueurs '!F9 -> 9.4 | G10: BPCE IT | H10: 543699178 | I10: =IF(E10="H",IF(F10<15.5,"H1",IF(F10<24.5,"H2","H3")),IF(E10="F",IF(F10<24.5,"F1","F2"),"")) -> H1 | J10: ='Feuille saisie score '!J9 -> 26 | K10: ='Feuille saisie score '!K9 -> 39 | L10: ='Feuille saisie score '!L9 -> 18 | M10: ='Feuille saisie score '!M9 -> 28 | N10: =J10+L10 -> 44
A11: BARROT | B11: MICHEL | C11: =A11&" "&B11 -> BARROT MICHEL | D11: S | E11: H | F11: ='joueurs '!F10 -> 18.5 | G11: NATIXIS | H11: 520164109 | I11: =IF(E11="H",IF(F11<15.5,"H1",IF(F11<24.5,"H2","H3")),IF(E11="F",IF(F11<24.5,"F1","F2"),"")) -> H2 | J11: ='Feuille saisie score '!J10 -> 15 | K11: ='Feuille saisie score '!K10 -> 30 | L11: ='Feuille saisie score '!L10 -> 15 | M11: ='Feuille saisie score '!M10 -> 32 | N11: =J11+L11 -> 30
A12: BARTHELEMI | B12: Philippe | C12: =A12&" "&B12 -> BARTHELEMI Philippe | D12: S | E12: H | F12: ='joueurs '!F11 -> 43.1 | G12: CEGC | H12: 517273355 | I12: =IF(E12="H",IF(F12<15.5,"H1",IF(F12<24.5,"H2","H3")),IF(E12="F",IF(F12<24.5,"F1","F2"),"")) -> H3 | J12: ='Feuille saisie score '!J11 -> 3 | K12: ='Feuille saisie score '!K11 -> 15 | L12: ='Feuille saisie score '!L11 -> 2 | M12: ='Feuille saisie score '!M11 -> 20 | N12: =J12+L12 -> 5
A13: BATAILLE | B13: Philippe | C13: =A13&" "&B13 -> BATAILLE Philippe | D13: S | E13: H | F13: ='joueurs '!F12 -> 19.3 | G13: CEBPL | H13: 48652194 | I13: =IF(E13="H",IF(F13<15.5,"H1",IF(F13<24.5,"H2","H3")),IF(E13="F",IF(F13<24.5,"F1","F2"),"")) -> H2 | J13: ='Feuille saisie score '!J12 -> 10 | K13: ='Feuille saisie score '!K12 -> 23 | L13: ='Feuille saisie score '!L12 -> 19 | M13: ='Feuille saisie score '!M12 -> 33 | N13: =J13+L13 -> 29
A14: BAUDIN | B14: Anne | C14: =A14&" "&B14 -> BAUDIN Anne | D14: S | E14: F | F14: ='joueurs '!F13 -> 11.2 | G14: CEIDF | H14: O45 762 186 | I14: =IF(E14="H",IF(F14<15.5,"H1",IF(F14<24.5,"H2","H3")),IF(E14="F",IF(F14<24.5,"F1","F2"),"")) -> F1 | J14: ='Feuille saisie score '!J13 -> 24 | K14: ='Feuille saisie score '!K13 -> 39 | L14: ='Feuille saisie score '!L13 -> 25 | M14: ='Feuille saisie score '!M13 -> 39 | N14: =J14+L14 -> 49
A15: BAUDIN | B15: Gilles | C15: =A15&" "&B15 -> BAUDIN Gilles | D15: E | E15: H | F15: ='joueurs '!F14 -> 15.6 | G15: CEIDF | H15: 543819163 | I15: =IF(E15="H",IF(F15<15.5,"H1",IF(F15<24.5,"H2","H3")),IF(E15="F",IF(F15<24.5,"F1","F2"),"")) -> H2 | J15: ='Feuille saisie score '!J14 -> 17 | K15: ='Feuille saisie score '!K14 -> 30 | L15: ='Feuille saisie score '!L14 -> 13 | M15: ='Feuille saisie score '!M14 -> 28 | N15: =J15+L15 -> 30
A16: BEAUDOUIN | B16: ROMAIN | C16: =A16&" "&B16 -> BEAUDOUIN ROMAIN | D16: S | E16: H | F16: ='joueurs '!F15 -> 17.5 | G16: NATIXIS | H16: 542293250 | I16: =IF(E16="H",IF(F16<15.5,"H1",IF(F16<24.5,"H2","H3")),IF(E16="F",IF(F16<24.5,"F1","F2"),"")) -> H2 | J16: ='Feuille saisie score '!J15 -> 14 | K16: ='Feuille saisie score '!K15 -> 30 | L16: ='Feuille saisie score '!L15 -> 12 | M16: ='Feuille saisie score '!M15 -> 29 | N16: =J16+L16 -> 26
A17: BENASSI | B17: Thibaud | C17: =A17&" "&B17 -> BENASSI Thibaud | D17: E | E17: H | F17: ='joueurs '!F16 -> 46 | G17: sponsor | H17: 510707363 | I17: =IF(E17="H",IF(F17<15.5,"H1",IF(F17<24.5,"H2","H3")),IF(E17="F",IF(F17<24.5,"F1","F2"),"")) -> H3 | J17: ='Feuille saisie score '!J16 -> 1 | K17: ='Feuille saisie score '!K16 -> 12 | L17: ='Feuille saisie score '!L16 -> 5 | M17: ='Feuille saisie score '!M16 -> 35 | N17: =J17+L17 -> 6
A18: BENOIT | B18: Christine | C18: =A18&" "&B18 -> BENOIT Christine | D18: S | E18: F | F18: ='joueurs '!F17 -> 40 | G18: CEGEE | H18: 522770334 | I18: =IF(E18="H",IF(F18<15.5,"H1",IF(F18<24.5,"H2","H3")),IF(E18="F",IF(F18<24.5,"F1","F2"),"")) -> F2 | J18: ='Feuille saisie score '!J17 -> 8 | K18: ='Feuille saisie score '!K17 -> 38 | L18: ='Feuille saisie score '!L17 -> 7 | M18: ='Feuille saisie score '!M17 -> 30 | N18: =J18+L18 -> 15
A19: BERTON | B19: Nicolas | C19: =A19&" "&B19 -> BERTON Nicolas | D19: S | E19: H | F19: ='joueurs '!F18 -> 11.4 | G19: BPALC | H19: 539465204 | I19: =IF(E19="H",IF(F19<15.5,"H1",IF(F19<24.5,"H2","H3")),IF(E19="F",IF(F19<24.5,"F1","F2"),"")) -> H1 | J19: ='Feuille saisie score '!J18 -> 21 | K19: ='Feuille saisie score '!K18 -> 31 | L19: ='Feuille saisie score '!L18 -> 9 | M19: ='Feuille saisie score '!M18 -> 19 | N19: =J19+L19 -> 30
A20: BEUVELOT | B20: Gaël | C20: =A20&" "&B20 -> BEUVELOT Gaël | D20: S | E20: H | F20: ='joueurs '!F19 -> 11.9 | G20: CEAPC | H20: 533283215 | I20: =IF(E20="H",IF(F20<15.5,"H1",IF(F20<24.5,"H2","H3")),IF(E20="F",IF(F20<24.5,"F1","F2"),"")) -> H1 | J20: ='Feuille saisie score '!J19 -> 10 | K20: ='Feuille saisie score '!K19 -> 19 | L20: ='Feuille saisie score '!L19 -> 7 | M20: ='Feuille saisie score '!M19 -> 16 | N20: =J20+L20 -> 17
A21: BOUDON | B21: PIERRE | C21: =A21&" "&B21 -> BOUDON PIERRE | D21: S | E21: H | F21: ='joueurs '!F20 -> 13 | G21: NATIXIS | H21: 43937161 | I21: =IF(E21="H",IF(F21<15.5,"H1",IF(F21<24.5,"H2","H3")),IF(E21="F",IF(F21<24.5,"F1","F2"),"")) -> H1 | J21: ='Feuille saisie score '!J20 -> 17 | K21: ='Feuille saisie score '!K20 -> 29 | L21: ='Feuille saisie score '!L20 -> 18 | M21: ='Feuille saisie score '!M20 -> 29 | N21: =J21+L21 -> 35
A22: BOULDOIRES | B22: Bertrand | C22: =A22&" "&B22 -> BOULDOIRES Bertrand | D22: S | E22: H | F22: ='joueurs '!F21 -> 7 | G22: CEAPC | H22: 52 541 21 26 | I22: =IF(E22="H",IF(F22<15.5,"H1",IF(F22<24.5,"H2","H3")),IF(E22="F",IF(F22<24.5,"F1","F2"),"")) -> H1 | J22: ='Feuille saisie score '!J21 -> 13 | K22: ='Feuille saisie score '!K21 -> 21 | L22: ='Feuille saisie score '!L21 -> 6 | M22: ='Feuille saisie score '!M21 -> 11 | N22: =J22+L22 -> 19
A23: BOURSIER | B23: ANTHONY | C23: =A23&" "&B23 -> BOURSIER ANTHONY | D23: S | E23: H | F23: ='joueurs '!F22 -> 21.2 | G23: CELC | H23: 547840202 | I23: =IF(E23="H",IF(F23<15.5,"H1",IF(F23<24.5,"H2","H3")),IF(E23="F",IF(F23<24.5,"F1","F2"),"")) -> H2 | J23: ='Feuille saisie score '!J22 -> 14 | K23: ='Feuille saisie score '!K22 -> 30 | L23: ='Feuille saisie score '!L22 -> 7 | M23: ='Feuille saisie score '!M22 -> 22 | N23: =J23+L23 -> 21
A24: BOUSSELET | B24: Bertrand | C24: =A24&" "&B24 -> BOUSSELET Bertrand | D24: S | E24: H | F24: ='joueurs '!F23 -> 15.5 | G24: CEIDF | H24: 3837290 | I24: =IF(E24="H",IF(F24<15.5,"H1",IF(F24<24.5,"H2","H3")),IF(E24="F",IF(F24<24.5,"F1","F2"),"")) -> H2 | J24: ='Feuille saisie score '!J23 -> 8 | K24: ='Feuille saisie score '!K23 -> 20 | L24: ='Feuille saisie score '!L23 -> 15 | M24: ='Feuille saisie score '!M23 -> 31 | N24: =J24+L24 -> 23
A25: BRIGNON | B25: MICHEL | C25: =A25&" "&B25 -> BRIGNON MICHEL | D25: S | E25: H | F25: ='joueurs '!F24 -> 20.4 | G25: CELC | H25: 515715265 | I25: =IF(E25="H",IF(F25<15.5,"H1",IF(F25<24.5,"H2","H3")),IF(E25="F",IF(F25<24.5,"F1","F2"),"")) -> H2 | J25: ='Feuille saisie score '!J24 -> 11 | K25: ='Feuille saisie score '!K24 -> 24 | L25: ='Feuille saisie score '!L24 -> 12 | M25: ='Feuille saisie score '!M24 -> 30 | N25: =J25+L25 -> 23
A26: BRKIC | B26: Alexandre | C26: =A26&" "&B26 -> BRKIC Alexandre | D26: S | E26: H | F26: ='joueurs '!F25 -> 19 | G26: CEIDF | H26: 48647147 | I26: =IF(E26="H",IF(F26<15.5,"H1",IF(F26<24.5,"H2","H3")),IF(E26="F",IF(F26<24.5,"F1","F2"),"")) -> H2 | J26: ='Feuille saisie score '!J25 -> 18 | K26: ='Feuille saisie score '!K25 -> 34 | L26: ='Feuille saisie score '!L25 -> 12 | M26: ='Feuille saisie score '!M25 -> 26 | N26: =J26+L26 -> 30
